Back to the "Multiple platform build/check report" |
Package 15/98 | Hostname | OS / Arch | BUILD | CHECK | BUILD BIN | ||||
CCl4 1.0.9 Audrey Kauffmann
| wilson2 | Linux (openSUSE 11.4) / x86_64 | OK | OK | |||||
liverpool | Windows Server 2003 R2 (32-bit) / x64 | OK | OK | [ OK ] | |||||
pitt | Mac OS X Leopard (10.5.8) / i386 | OK | OK | OK |
Package: CCl4 |
Version: 1.0.9 |
Command: mkdir CCl4.buildbin-libdir && E:\biocbld\bbs-2.9-bioc\R\bin\R.exe CMD INSTALL --build --no-multiarch --library=CCl4.buildbin-libdir CCl4_1.0.9.tar.gz |
StartedAt: 2011-07-06 16:35:45 -0700 (Wed, 06 Jul 2011) |
EndedAt: 2011-07-06 16:37:59 -0700 (Wed, 06 Jul 2011) |
EllapsedTime: 134.1 seconds |
RetCode: 0 |
Status: OK |
PackageFile: CCl4_1.0.9.zip |
PackageFileSize: 105.5 MiB |
* installing *source* package 'CCl4' ... ** data ** inst ** help *** installing help indices ** building package indices ... *** tangling vignette sources ... 'CCl4.Rnw' ** testing if installed package can be loaded * MD5 sums packaged installation of 'CCl4' as CCl4_1.0.9.zip * DONE (CCl4)