Back to the "Multiple platform build/check report" |
Package 5/98 | Hostname | OS / Arch | BUILD | CHECK | BUILD BIN | ||||
ALLMLL 1.2.8 B. M. Bolstad
| wilson2 | Linux (openSUSE 11.4) / x86_64 | OK | WARNINGS | |||||
liverpool | Windows Server 2003 R2 (32-bit) / x64 | OK | WARNINGS | [ OK ] | |||||
pitt | Mac OS X Leopard (10.5.8) / i386 | OK | WARNINGS | OK |
Package: ALLMLL |
Version: 1.2.8 |
Command: mkdir ALLMLL.buildbin-libdir && E:\biocbld\bbs-2.9-bioc\R\bin\R.exe CMD INSTALL --build --no-multiarch --library=ALLMLL.buildbin-libdir ALLMLL_1.2.8.tar.gz |
StartedAt: 2011-07-06 16:32:45 -0700 (Wed, 06 Jul 2011) |
EndedAt: 2011-07-06 16:33:11 -0700 (Wed, 06 Jul 2011) |
EllapsedTime: 25.7 seconds |
RetCode: 0 |
Status: OK |
PackageFile: ALLMLL_1.2.8.zip |
PackageFileSize: 25.62 MiB |
* installing *source* package 'ALLMLL' ... ** data ** help *** installing help indices ** building package indices ... ** testing if installed package can be loaded * MD5 sums packaged installation of 'ALLMLL' as ALLMLL_1.2.8.zip * DONE (ALLMLL)