Back to the "Multiple platform build/check report" | A B C D E F G H I J K L M N O P Q R S [T] U V W X Y Z |
Package 489/514 | Hostname | OS / Arch | BUILD | CHECK | BUILD BIN | ||||
tilingArray 1.32.0 Zhenyu Xu
| wilson2 | Linux (openSUSE 11.4) / x86_64 | OK | OK | |||||
moscato1 | Windows Server 2008 R2 Enterprise SP1 (64-bit) / x64 | [ OK ] | OK | OK | |||||
pitt | Mac OS X Leopard (10.5.8) / i386 | OK | OK | OK |
Package: tilingArray |
Version: 1.32.0 |
Command: chmod a+r tilingArray -R && D:\biocbld\bbs-2.9-bioc\R\bin\R.exe CMD build --keep-empty-dirs --no-resave-data tilingArray |
StartedAt: 2012-03-23 22:53:49 -0700 (Fri, 23 Mar 2012) |
EndedAt: 2012-03-23 22:54:25 -0700 (Fri, 23 Mar 2012) |
EllapsedTime: 36.0 seconds |
RetCode: 0 |
Status: OK |
PackageFile: tilingArray_1.32.0.tar.gz |
PackageFileSize: 2.82 MiB |
* checking for file 'tilingArray/DESCRIPTION' ... OK * preparing 'tilingArray': * checking DESCRIPTION meta-information ... OK * cleaning src * installing the package to re-build vignettes * creating vignettes ... OK * cleaning src * checking for LF line-endings in source and make files * checking for empty or unneeded directories * looking to see if a 'data/datalist' file should be added * building 'tilingArray_1.32.0.tar.gz'