sva 3.0.2 Jeffrey T. Leek
Snapshot Date: 2012-01-08 18:22:44 -0800 (Sun, 08 Jan 2012) | URL: https://hedgehog.fhcrc.org/bioconductor/branches/RELEASE_2_9/madman/Rpacks/sva | Last Changed Rev: 61191 / Revision: 61898 | Last Changed Date: 2011-12-07 13:13:05 -0800 (Wed, 07 Dec 2011) |
| wilson2 | Linux (openSUSE 11.4) / x86_64 | OK | WARNINGS | |
liverpool | Windows Server 2003 R2 (32-bit) / x64 | OK | WARNINGS | OK |
gewurz | Windows Server 2008 R2 Enterprise SP1 (64-bit) / x64 | OK | WARNINGS | [ OK ] |
moscato1 | Windows Server 2008 R2 Enterprise SP1 (64-bit) / x64 | OK | WARNINGS | OK |
pitt | Mac OS X Leopard (10.5.8) / i386 | OK | WARNINGS | OK |
* installing *source* package 'sva' ...
** libs
x86_64-w64-mingw32-gcc -I"D:/biocbld/bbs-2.9-bioc/R/include" -O2 -Wall -std=gnu99 -mtune=core2 -c sva.c -o sva.o
x86_64-w64-mingw32-gcc -shared -s -static-libgcc -o sva.dll tmp.def sva.o -LD:/biocbld/bbs-2.9-bioc/R/bin/x64 -lR
installing to D:/biocbld/bbs-2.9-bioc/meat/sva.buildbin-libdir/sva/libs/x64
** R
** inst
** preparing package for lazy loading
** help
*** installing help indices
** building package indices ...
*** tangling vignette sources ...
'sva.Rnw'
** testing if installed package can be loaded
* MD5 sums
packaged installation of 'sva' as sva_3.0.2.zip
* DONE (sva)