ggbio 1.0.4 Tengfei Yin
 | Snapshot Date: 2012-03-23 18:21:46 -0700 (Fri, 23 Mar 2012) |  | URL: https://hedgehog.fhcrc.org/bioconductor/branches/RELEASE_2_9/madman/Rpacks/ggbio |  | Last Changed Rev: 62510 / Revision: 64395 |  | Last Changed Date: 2012-02-03 06:42:00 -0800 (Fri, 03 Feb 2012) |  
  | wilson2  | Linux (openSUSE 11.4) / x86_64  |  OK  |  OK  |  | 
| moscato1  | Windows Server 2008 R2 Enterprise SP1 (64-bit) / x64  |  OK  |  OK  | [ OK ] | 
| pitt  | Mac OS X Leopard (10.5.8) / i386  |  OK  |  OK  |  OK  | 
install for i386
* installing *source* package 'ggbio' ...
** R
** inst
** preparing package for lazy loading
Creating a new generic function for 'rescale' in package 'ggbio'
** help
*** installing help indices
** building package indices ...
*** tangling vignette sources ...
   'intro.Rnw' 
** testing if installed package can be loaded
add DLL for x64
* installing *source* package 'ggbio' ...
** testing if installed package can be loaded
* MD5 sums
packaged installation of 'ggbio' as ggbio_1.0.4.zip
* DONE (ggbio)