| genArise 1.30.0 IFC Development Team
 
 | Snapshot Date: 2012-01-08 18:22:44 -0800 (Sun, 08 Jan 2012) |  | URL: https://hedgehog.fhcrc.org/bioconductor/branches/RELEASE_2_9/madman/Rpacks/genArise |  | Last Changed Rev: 59920 / Revision: 61898 |  | Last Changed Date: 2011-10-31 15:59:03 -0700 (Mon, 31 Oct 2011) | 
 | wilson2 | Linux (openSUSE 11.4) / x86_64 | OK | OK |  | 
| liverpool | Windows Server 2003 R2 (32-bit) / x64 | OK | ERROR | ERROR | 
| gewurz | Windows Server 2008 R2 Enterprise SP1 (64-bit) / x64 | OK | OK | [ OK ] | 
| moscato1 | Windows Server 2008 R2 Enterprise SP1 (64-bit) / x64 | OK | OK | OK | 
| pitt | Mac OS X Leopard (10.5.8) / i386 | OK | OK | OK | 
* installing *source* package 'genArise' ...
** R
** data
** inst
** preparing package for lazy loading
locfit 1.5-6 	 2010-01-20 
** help
*** installing help indices
** building package indices ...
*** tangling vignette sources ...
   'genArise.Rnw' 
** testing if installed package can be loaded
locfit 1.5-6 	 2010-01-20 
* MD5 sums
packaged installation of 'genArise' as genArise_1.30.0.zip
* DONE (genArise)