flowMeans 1.6.0 Nima Aghaeepour
 | Snapshot Date: 2012-01-08 18:22:44 -0800 (Sun, 08 Jan 2012) |  | URL: https://hedgehog.fhcrc.org/bioconductor/branches/RELEASE_2_9/madman/Rpacks/flowMeans |  | Last Changed Rev: 59920 / Revision: 61898 |  | Last Changed Date: 2011-10-31 15:59:03 -0700 (Mon, 31 Oct 2011) |  
  | wilson2  | Linux (openSUSE 11.4) / x86_64  |  OK  |  OK  |  | 
| liverpool  | Windows Server 2003 R2 (32-bit) / x64  |  OK  |  OK  | [ OK ] | 
| gewurz  | Windows Server 2008 R2 Enterprise SP1 (64-bit) / x64  |  OK  |  OK  |  OK  | 
| moscato1  | Windows Server 2008 R2 Enterprise SP1 (64-bit) / x64  |  OK  |  OK  |  OK  | 
| pitt  | Mac OS X Leopard (10.5.8) / i386  |  OK  |  OK  |  OK  | 
* installing *source* package 'flowMeans' ...
** R
** data
** inst
** preparing package for lazy loading
Scalable Robust Estimators with High Breakdown Point (version 1.3-01)
Warning: replacing previous import '.__C__character' when loading 'methods'
Creating a generic function for 'summary' from package 'base' in package 'flowMeans'
** help
*** installing help indices
** building package indices ...
*** tangling vignette sources ...
   'flowMeans.Rnw' 
** testing if installed package can be loaded
Scalable Robust Estimators with High Breakdown Point (version 1.3-01)
Warning message:
replacing previous import '.__C__character' when loading 'methods' 
* MD5 sums
packaged installation of 'flowMeans' as flowMeans_1.6.0.zip
* DONE (flowMeans)