| Back to the "Multiple platform build/check report" | A B [C] D E F G H I J K L M N O P Q R S T U V W X Y Z |
| Package 112/472 | Hostname | OS / Arch | BUILD | CHECK | BUILD BIN | ||||
| cosmoGUI 1.19.0 Oliver Bembom
| wilson2 | Linux (openSUSE 11.4) / x86_64 | OK | OK | |||||
| liverpool | Windows Server 2003 R2 (32-bit) / x64 | OK | OK | OK | |||||
| gewurz | Windows Server 2008 R2 Enterprise (64-bit) / x64 | OK | OK | OK | |||||
| moscato1 | Windows Server 2008 R2 Enterprise (64-bit) / x64 | OK | OK | OK | |||||
| pelham | Mac OS X Leopard (10.5.8) / i386 | [ OK ] | OK | OK |
| Package: cosmoGUI |
| Version: 1.19.0 |
| Command: /Library/Frameworks/R.framework/Versions/2.14/Resources/bin/R CMD build --keep-empty-dirs --no-resave-data cosmoGUI |
| StartedAt: 2011-06-21 23:05:03 -0700 (Tue, 21 Jun 2011) |
| EndedAt: 2011-06-21 23:05:05 -0700 (Tue, 21 Jun 2011) |
| EllapsedTime: 2.0 seconds |
| RetCode: 0 |
| Status: OK |
| PackageFile: cosmoGUI_1.19.0.tar.gz |
| PackageFileSize: 11.19 KiB |
* checking for file ‘cosmoGUI/DESCRIPTION’ ... OK * preparing ‘cosmoGUI’: * checking DESCRIPTION meta-information ... OK * checking for LF line-endings in source and make files * checking for empty or unneeded directories * building ‘cosmoGUI_1.19.0.tar.gz’