| coRNAi 1.4.0 Elin Axelsson
 
 | Snapshot Date: 2012-03-23 18:21:46 -0700 (Fri, 23 Mar 2012) |  | URL: https://hedgehog.fhcrc.org/bioconductor/branches/RELEASE_2_9/madman/Rpacks/coRNAi |  | Last Changed Rev: 59920 / Revision: 64395 |  | Last Changed Date: 2011-10-31 15:59:03 -0700 (Mon, 31 Oct 2011) | 
 | wilson2 | Linux (openSUSE 11.4) / x86_64 | OK | OK |  | 
| moscato1 | Windows Server 2008 R2 Enterprise SP1 (64-bit) / x64 | OK | OK | OK | 
| pitt | Mac OS X Leopard (10.5.8) / i386 | OK | OK | [ OK ] | 
>>>>>>> 
>>>>>>> INSTALLATION WITH 'R CMD INSTALL --preclean --no-multiarch --library=coRNAi.buildbin-libdir coRNAi_1.4.0.tar.gz'
>>>>>>> 
* installing *source* package 'coRNAi' ...
** R
** data
** inst
** preparing package for lazy loading
locfit 1.5-6 	 2010-01-20 
Scalable Robust Estimators with High Breakdown Point (version 1.3-01)
Warning in .simpleDuplicateClass(def, prev) :
  A specification for S3 class "connection" in package 'graph' seems equivalent to one from package 'IRanges' and is not turning on duplicate class definitions for this class
Warning in .simpleDuplicateClass(def, prev) :
  A specification for S3 class "file" in package 'graph' seems equivalent to one from package 'IRanges' and is not turning on duplicate class definitions for this class
** help
*** installing help indices
** building package indices ...
*** tangling vignette sources ...
   'coRNAi.Rnw' 
** testing if installed package can be loaded
locfit 1.5-6 	 2010-01-20 
Scalable Robust Estimators with High Breakdown Point (version 1.3-01)
* DONE (coRNAi)