| baySeq 1.8.3 Thomas J. Hardcastle
 
 | Snapshot Date: 2012-03-23 18:21:46 -0700 (Fri, 23 Mar 2012) |  | URL: https://hedgehog.fhcrc.org/bioconductor/branches/RELEASE_2_9/madman/Rpacks/baySeq |  | Last Changed Rev: 62640 / Revision: 64395 |  | Last Changed Date: 2012-02-08 09:29:28 -0800 (Wed, 08 Feb 2012) | 
 | wilson2 | Linux (openSUSE 11.4) / x86_64 | OK | OK |  | 
| moscato1 | Windows Server 2008 R2 Enterprise SP1 (64-bit) / x64 | OK | OK | OK | 
| pitt | Mac OS X Leopard (10.5.8) / i386 | OK | OK | [ OK ] | 
>>>>>>> 
>>>>>>> INSTALLATION WITH 'R CMD INSTALL --preclean --no-multiarch --library=baySeq.buildbin-libdir baySeq_1.8.3.tar.gz'
>>>>>>> 
* installing *source* package 'baySeq' ...
** R
** data
** inst
** preparing package for lazy loading
Creating a new generic function for 'rbind' in package 'baySeq'
** help
*** installing help indices
** building package indices ...
*** tangling vignette sources ...
   'baySeq.Rnw' 
** testing if installed package can be loaded
* DONE (baySeq)