| affycoretools 1.26.0 James W. MacDonald
 
 | Snapshot Date: 2012-01-08 18:22:44 -0800 (Sun, 08 Jan 2012) |  | URL: https://hedgehog.fhcrc.org/bioconductor/branches/RELEASE_2_9/madman/Rpacks/affycoretools |  | Last Changed Rev: 59920 / Revision: 61898 |  | Last Changed Date: 2011-10-31 15:59:03 -0700 (Mon, 31 Oct 2011) | 
 | wilson2 | Linux (openSUSE 11.4) / x86_64 | OK | OK |  | 
| liverpool | Windows Server 2003 R2 (32-bit) / x64 | OK | OK | [ OK ] | 
| gewurz | Windows Server 2008 R2 Enterprise SP1 (64-bit) / x64 | OK | OK | OK | 
| moscato1 | Windows Server 2008 R2 Enterprise SP1 (64-bit) / x64 | OK | OK | OK | 
| pitt | Mac OS X Leopard (10.5.8) / i386 | OK | OK | OK | 
* installing *source* package 'affycoretools' ...
** R
** inst
** preparing package for lazy loading
Warning in .simpleDuplicateClass(def, prev) :
  A specification for S3 class "connection" in package 'graph' seems equivalent to one from package 'IRanges' and is not turning on duplicate class definitions for this class
Warning in .simpleDuplicateClass(def, prev) :
  A specification for S3 class "file" in package 'graph' seems equivalent to one from package 'IRanges' and is not turning on duplicate class definitions for this class
** help
*** installing help indices
** building package indices ...
*** tangling vignette sources ...
   'affycoretools.Rnw' 
   'affycoretools_biomaRt.Rnw' 
** testing if installed package can be loaded
* MD5 sums
packaged installation of 'affycoretools' as affycoretools_1.26.0.zip
* DONE (affycoretools)