| VariantAnnotation 1.0.5 Valerie Obenchain
 
 | Snapshot Date: 2012-01-08 18:22:44 -0800 (Sun, 08 Jan 2012) |  | URL: https://hedgehog.fhcrc.org/bioconductor/branches/RELEASE_2_9/madman/Rpacks/VariantAnnotation |  | Last Changed Rev: 60378 / Revision: 61898 |  | Last Changed Date: 2011-11-15 18:18:51 -0800 (Tue, 15 Nov 2011) | 
 | wilson2 | Linux (openSUSE 11.4) / x86_64 | OK | OK |  | 
| liverpool | Windows Server 2003 R2 (32-bit) / x64 | OK | OK | [ OK ] | 
| gewurz | Windows Server 2008 R2 Enterprise SP1 (64-bit) / x64 | OK | OK | OK | 
| moscato1 | Windows Server 2008 R2 Enterprise SP1 (64-bit) / x64 | OK | OK | OK | 
| pitt | Mac OS X Leopard (10.5.8) / i386 | OK | OK | OK | 
* installing *source* package 'VariantAnnotation' ...
** R
** data
** inst
** preparing package for lazy loading
Warning: replacing previous import 'as.list' when loading 'AnnotationDbi'
** help
*** installing help indices
** building package indices ...
*** tangling vignette sources ...
   'VariantAnnotation.Rnw' 
** testing if installed package can be loaded
Warning message:
replacing previous import 'as.list' when loading 'AnnotationDbi' 
* MD5 sums
packaged installation of 'VariantAnnotation' as VariantAnnotation_1.0.5.zip
* DONE (VariantAnnotation)