Starr 1.10.0 Benedikt Zacher
 | Snapshot Date: 2012-01-08 18:22:44 -0800 (Sun, 08 Jan 2012) |  | URL: https://hedgehog.fhcrc.org/bioconductor/branches/RELEASE_2_9/madman/Rpacks/Starr |  | Last Changed Rev: 59920 / Revision: 61898 |  | Last Changed Date: 2011-10-31 15:59:03 -0700 (Mon, 31 Oct 2011) |  
  | wilson2  | Linux (openSUSE 11.4) / x86_64  |  OK  |  OK  |  | 
| liverpool  | Windows Server 2003 R2 (32-bit) / x64  |  OK  |  OK  | [ OK ] | 
| gewurz  | Windows Server 2008 R2 Enterprise SP1 (64-bit) / x64  |  OK  |  OK  |  OK  | 
| moscato1  | Windows Server 2008 R2 Enterprise SP1 (64-bit) / x64  |  OK  |  OK  |  OK  | 
| pitt  | Mac OS X Leopard (10.5.8) / i386  |  OK  |  OK  |  OK  | 
* installing *source* package 'Starr' ...
   **********************************************
   WARNING: this package has a configure script
         It probably needs manual configuration
   **********************************************
** libs
gcc  -I"E:/biocbld/bbs-2.9-bioc/R/library/zlibbioc/include" -I"E:/biocbld/bbs-2.9-bioc/R/include"          -O3 -Wall  -std=gnu99 -mtune=core2 -c ahocorasick.c -o ahocorasick.o
gcc  -I"E:/biocbld/bbs-2.9-bioc/R/library/zlibbioc/include" -I"E:/biocbld/bbs-2.9-bioc/R/include"          -O3 -Wall  -std=gnu99 -mtune=core2 -c collect.c -o collect.o
gcc  -I"E:/biocbld/bbs-2.9-bioc/R/library/zlibbioc/include" -I"E:/biocbld/bbs-2.9-bioc/R/include"          -O3 -Wall  -std=gnu99 -mtune=core2 -c rm_small_peak.c -o rm_small_peak.o
gcc  -I"E:/biocbld/bbs-2.9-bioc/R/library/zlibbioc/include" -I"E:/biocbld/bbs-2.9-bioc/R/include"          -O3 -Wall  -std=gnu99 -mtune=core2 -c sort_by_genomic.c -o sort_by_genomic.o
gcc -shared -s -static-libgcc -o Starr.dll tmp.def ahocorasick.o collect.o rm_small_peak.o sort_by_genomic.o -LE:/biocbld/bbs-2.9-bioc/R/library/zlibbioc/libs/i386 -lzlib1bioc -LE:/biocbld/bbs-2.9-bioc/R/bin/i386 -lR
installing to E:/biocbld/bbs-2.9-bioc/meat/Starr.buildbin-libdir/Starr/libs/i386
** R
** inst
** preparing package for lazy loading
** help
*** installing help indices
** building package indices ...
*** tangling vignette sources ...
   'Starr.Rnw' 
** testing if installed package can be loaded
* MD5 sums
packaged installation of 'Starr' as Starr_1.10.0.zip
* DONE (Starr)