ShortRead 1.12.4 Bioconductor Package Maintainer
 | Snapshot Date: 2012-03-23 18:21:46 -0700 (Fri, 23 Mar 2012) |  | URL: https://hedgehog.fhcrc.org/bioconductor/branches/RELEASE_2_9/madman/Rpacks/ShortRead |  | Last Changed Rev: 61844 / Revision: 64395 |  | Last Changed Date: 2012-01-05 18:14:31 -0800 (Thu, 05 Jan 2012) |  
  | wilson2  | Linux (openSUSE 11.4) / x86_64  |  OK  |  OK  |  | 
| moscato1  | Windows Server 2008 R2 Enterprise SP1 (64-bit) / x64  |  OK  |  OK  | [ OK ] | 
| pitt  | Mac OS X Leopard (10.5.8) / i386  |  OK  |  OK  |  OK  | 
install for i386
* installing *source* package 'ShortRead' ...
   **********************************************
   WARNING: this package has a configure script
         It probably needs manual configuration
   **********************************************
** libs
gcc  -I"D:/biocbld/bbs-2.9-bioc/R/library/zlibbioc/include" -I"D:/biocbld/BBS-2˜1.9-B/R/include"    -I"D:/biocbld/bbs-2.9-bioc/R/library/IRanges/include" -I"D:/biocbld/bbs-2.9-bioc/R/library/Biostrings/include"      -O3 -Wall  -std=gnu99 -mtune=core2 -c Biostrings_stubs.c -o Biostrings_stubs.o
gcc  -I"D:/biocbld/bbs-2.9-bioc/R/library/zlibbioc/include" -I"D:/biocbld/BBS-2˜1.9-B/R/include"    -I"D:/biocbld/bbs-2.9-bioc/R/library/IRanges/include" -I"D:/biocbld/bbs-2.9-bioc/R/library/Biostrings/include"      -O3 -Wall  -std=gnu99 -mtune=core2 -c IRanges_stubs.c -o IRanges_stubs.o
gcc  -I"D:/biocbld/bbs-2.9-bioc/R/library/zlibbioc/include" -I"D:/biocbld/BBS-2˜1.9-B/R/include"    -I"D:/biocbld/bbs-2.9-bioc/R/library/IRanges/include" -I"D:/biocbld/bbs-2.9-bioc/R/library/Biostrings/include"      -O3 -Wall  -std=gnu99 -mtune=core2 -c R_init_ShortRead.c -o R_init_ShortRead.o
gcc  -I"D:/biocbld/bbs-2.9-bioc/R/library/zlibbioc/include" -I"D:/biocbld/BBS-2˜1.9-B/R/include"    -I"D:/biocbld/bbs-2.9-bioc/R/library/IRanges/include" -I"D:/biocbld/bbs-2.9-bioc/R/library/Biostrings/include"      -O3 -Wall  -std=gnu99 -mtune=core2 -c alphabet.c -o alphabet.o
gcc  -I"D:/biocbld/bbs-2.9-bioc/R/library/zlibbioc/include" -I"D:/biocbld/BBS-2˜1.9-B/R/include"    -I"D:/biocbld/bbs-2.9-bioc/R/library/IRanges/include" -I"D:/biocbld/bbs-2.9-bioc/R/library/Biostrings/include"      -O3 -Wall  -std=gnu99 -mtune=core2 -c io.c -o io.o
gcc  -I"D:/biocbld/bbs-2.9-bioc/R/library/zlibbioc/include" -I"D:/biocbld/BBS-2˜1.9-B/R/include"    -I"D:/biocbld/bbs-2.9-bioc/R/library/IRanges/include" -I"D:/biocbld/bbs-2.9-bioc/R/library/Biostrings/include"      -O3 -Wall  -std=gnu99 -mtune=core2 -c io_bowtie.c -o io_bowtie.o
gcc  -I"D:/biocbld/bbs-2.9-bioc/R/library/zlibbioc/include" -I"D:/biocbld/BBS-2˜1.9-B/R/include"    -I"D:/biocbld/bbs-2.9-bioc/R/library/IRanges/include" -I"D:/biocbld/bbs-2.9-bioc/R/library/Biostrings/include"      -O3 -Wall  -std=gnu99 -mtune=core2 -c io_soap.c -o io_soap.o
gcc  -I"D:/biocbld/bbs-2.9-bioc/R/library/zlibbioc/include" -I"D:/biocbld/BBS-2˜1.9-B/R/include"    -I"D:/biocbld/bbs-2.9-bioc/R/library/IRanges/include" -I"D:/biocbld/bbs-2.9-bioc/R/library/Biostrings/include"      -O3 -Wall  -std=gnu99 -mtune=core2 -c pileup.c -o pileup.o
g++  -I"D:/biocbld/bbs-2.9-bioc/R/library/zlibbioc/include" -I"D:/biocbld/BBS-2˜1.9-B/R/include"    -I"D:/biocbld/bbs-2.9-bioc/R/library/IRanges/include" -I"D:/biocbld/bbs-2.9-bioc/R/library/Biostrings/include"      -O2 -Wall  -mtune=core2 -c readBfaToc.cc -o readBfaToc.o
g++  -I"D:/biocbld/bbs-2.9-bioc/R/library/zlibbioc/include" -I"D:/biocbld/BBS-2˜1.9-B/R/include"    -I"D:/biocbld/bbs-2.9-bioc/R/library/IRanges/include" -I"D:/biocbld/bbs-2.9-bioc/R/library/Biostrings/include"      -O2 -Wall  -mtune=core2 -c read_maq_map.cc -o read_maq_map.o
gcc  -I"D:/biocbld/bbs-2.9-bioc/R/library/zlibbioc/include" -I"D:/biocbld/BBS-2˜1.9-B/R/include"    -I"D:/biocbld/bbs-2.9-bioc/R/library/IRanges/include" -I"D:/biocbld/bbs-2.9-bioc/R/library/Biostrings/include"      -O3 -Wall  -std=gnu99 -mtune=core2 -c sampler.c -o sampler.o
gcc  -I"D:/biocbld/bbs-2.9-bioc/R/library/zlibbioc/include" -I"D:/biocbld/BBS-2˜1.9-B/R/include"    -I"D:/biocbld/bbs-2.9-bioc/R/library/IRanges/include" -I"D:/biocbld/bbs-2.9-bioc/R/library/Biostrings/include"      -O3 -Wall  -std=gnu99 -mtune=core2 -c trim.c -o trim.o
gcc  -I"D:/biocbld/bbs-2.9-bioc/R/library/zlibbioc/include" -I"D:/biocbld/BBS-2˜1.9-B/R/include"    -I"D:/biocbld/bbs-2.9-bioc/R/library/IRanges/include" -I"D:/biocbld/bbs-2.9-bioc/R/library/Biostrings/include"      -O3 -Wall  -std=gnu99 -mtune=core2 -c util.c -o util.o
gcc  -I"D:/biocbld/bbs-2.9-bioc/R/library/zlibbioc/include" -I"D:/biocbld/BBS-2˜1.9-B/R/include"    -I"D:/biocbld/bbs-2.9-bioc/R/library/IRanges/include" -I"D:/biocbld/bbs-2.9-bioc/R/library/Biostrings/include"      -O3 -Wall  -std=gnu99 -mtune=core2 -c xsnap.c -o xsnap.o
g++ -shared -s -static-libgcc -o ShortRead.dll tmp.def Biostrings_stubs.o IRanges_stubs.o R_init_ShortRead.o alphabet.o io.o io_bowtie.o io_soap.o pileup.o readBfaToc.o read_maq_map.o sampler.o trim.o util.o xsnap.o -LD:/biocbld/bbs-2.9-bioc/R/library/zlibbioc/libs/i386 -lzlib1bioc -LD:/biocbld/BBS-2˜1.9-B/R/bin/i386 -lR
installing to D:/biocbld/bbs-2.9-bioc/meat/ShortRead.buildbin-libdir/ShortRead/libs/i386
** R
** inst
** preparing package for lazy loading
** help
*** installing help indices
** building package indices ...
*** tangling vignette sources ...
   'Overview.Rnw' 
** testing if installed package can be loaded
add DLL for x64
* installing *source* package 'ShortRead' ...
   **********************************************
   WARNING: this package has a configure script
         It probably needs manual configuration
   **********************************************
** libs
gcc -m64 -I"D:/biocbld/bbs-2.9-bioc/R/library/zlibbioc/include" -I"D:/biocbld/BBS-2˜1.9-B/R/include"    -I"D:/biocbld/bbs-2.9-bioc/R/library/IRanges/include" -I"D:/biocbld/bbs-2.9-bioc/R/library/Biostrings/include" -I"d:/RCompile/CRANpkg/extralibs64/local/include"     -O2 -Wall  -std=gnu99 -mtune=core2 -c Biostrings_stubs.c -o Biostrings_stubs.o
gcc -m64 -I"D:/biocbld/bbs-2.9-bioc/R/library/zlibbioc/include" -I"D:/biocbld/BBS-2˜1.9-B/R/include"    -I"D:/biocbld/bbs-2.9-bioc/R/library/IRanges/include" -I"D:/biocbld/bbs-2.9-bioc/R/library/Biostrings/include" -I"d:/RCompile/CRANpkg/extralibs64/local/include"     -O2 -Wall  -std=gnu99 -mtune=core2 -c IRanges_stubs.c -o IRanges_stubs.o
gcc -m64 -I"D:/biocbld/bbs-2.9-bioc/R/library/zlibbioc/include" -I"D:/biocbld/BBS-2˜1.9-B/R/include"    -I"D:/biocbld/bbs-2.9-bioc/R/library/IRanges/include" -I"D:/biocbld/bbs-2.9-bioc/R/library/Biostrings/include" -I"d:/RCompile/CRANpkg/extralibs64/local/include"     -O2 -Wall  -std=gnu99 -mtune=core2 -c R_init_ShortRead.c -o R_init_ShortRead.o
gcc -m64 -I"D:/biocbld/bbs-2.9-bioc/R/library/zlibbioc/include" -I"D:/biocbld/BBS-2˜1.9-B/R/include"    -I"D:/biocbld/bbs-2.9-bioc/R/library/IRanges/include" -I"D:/biocbld/bbs-2.9-bioc/R/library/Biostrings/include" -I"d:/RCompile/CRANpkg/extralibs64/local/include"     -O2 -Wall  -std=gnu99 -mtune=core2 -c alphabet.c -o alphabet.o
gcc -m64 -I"D:/biocbld/bbs-2.9-bioc/R/library/zlibbioc/include" -I"D:/biocbld/BBS-2˜1.9-B/R/include"    -I"D:/biocbld/bbs-2.9-bioc/R/library/IRanges/include" -I"D:/biocbld/bbs-2.9-bioc/R/library/Biostrings/include" -I"d:/RCompile/CRANpkg/extralibs64/local/include"     -O2 -Wall  -std=gnu99 -mtune=core2 -c io.c -o io.o
gcc -m64 -I"D:/biocbld/bbs-2.9-bioc/R/library/zlibbioc/include" -I"D:/biocbld/BBS-2˜1.9-B/R/include"    -I"D:/biocbld/bbs-2.9-bioc/R/library/IRanges/include" -I"D:/biocbld/bbs-2.9-bioc/R/library/Biostrings/include" -I"d:/RCompile/CRANpkg/extralibs64/local/include"     -O2 -Wall  -std=gnu99 -mtune=core2 -c io_bowtie.c -o io_bowtie.o
gcc -m64 -I"D:/biocbld/bbs-2.9-bioc/R/library/zlibbioc/include" -I"D:/biocbld/BBS-2˜1.9-B/R/include"    -I"D:/biocbld/bbs-2.9-bioc/R/library/IRanges/include" -I"D:/biocbld/bbs-2.9-bioc/R/library/Biostrings/include" -I"d:/RCompile/CRANpkg/extralibs64/local/include"     -O2 -Wall  -std=gnu99 -mtune=core2 -c io_soap.c -o io_soap.o
gcc -m64 -I"D:/biocbld/bbs-2.9-bioc/R/library/zlibbioc/include" -I"D:/biocbld/BBS-2˜1.9-B/R/include"    -I"D:/biocbld/bbs-2.9-bioc/R/library/IRanges/include" -I"D:/biocbld/bbs-2.9-bioc/R/library/Biostrings/include" -I"d:/RCompile/CRANpkg/extralibs64/local/include"     -O2 -Wall  -std=gnu99 -mtune=core2 -c pileup.c -o pileup.o
g++ -m64 -I"D:/biocbld/bbs-2.9-bioc/R/library/zlibbioc/include" -I"D:/biocbld/BBS-2˜1.9-B/R/include"    -I"D:/biocbld/bbs-2.9-bioc/R/library/IRanges/include" -I"D:/biocbld/bbs-2.9-bioc/R/library/Biostrings/include" -I"d:/RCompile/CRANpkg/extralibs64/local/include"     -O2 -Wall  -mtune=core2 -c readBfaToc.cc -o readBfaToc.o
g++ -m64 -I"D:/biocbld/bbs-2.9-bioc/R/library/zlibbioc/include" -I"D:/biocbld/BBS-2˜1.9-B/R/include"    -I"D:/biocbld/bbs-2.9-bioc/R/library/IRanges/include" -I"D:/biocbld/bbs-2.9-bioc/R/library/Biostrings/include" -I"d:/RCompile/CRANpkg/extralibs64/local/include"     -O2 -Wall  -mtune=core2 -c read_maq_map.cc -o read_maq_map.o
gcc -m64 -I"D:/biocbld/bbs-2.9-bioc/R/library/zlibbioc/include" -I"D:/biocbld/BBS-2˜1.9-B/R/include"    -I"D:/biocbld/bbs-2.9-bioc/R/library/IRanges/include" -I"D:/biocbld/bbs-2.9-bioc/R/library/Biostrings/include" -I"d:/RCompile/CRANpkg/extralibs64/local/include"     -O2 -Wall  -std=gnu99 -mtune=core2 -c sampler.c -o sampler.o
gcc -m64 -I"D:/biocbld/bbs-2.9-bioc/R/library/zlibbioc/include" -I"D:/biocbld/BBS-2˜1.9-B/R/include"    -I"D:/biocbld/bbs-2.9-bioc/R/library/IRanges/include" -I"D:/biocbld/bbs-2.9-bioc/R/library/Biostrings/include" -I"d:/RCompile/CRANpkg/extralibs64/local/include"     -O2 -Wall  -std=gnu99 -mtune=core2 -c trim.c -o trim.o
gcc -m64 -I"D:/biocbld/bbs-2.9-bioc/R/library/zlibbioc/include" -I"D:/biocbld/BBS-2˜1.9-B/R/include"    -I"D:/biocbld/bbs-2.9-bioc/R/library/IRanges/include" -I"D:/biocbld/bbs-2.9-bioc/R/library/Biostrings/include" -I"d:/RCompile/CRANpkg/extralibs64/local/include"     -O2 -Wall  -std=gnu99 -mtune=core2 -c util.c -o util.o
gcc -m64 -I"D:/biocbld/bbs-2.9-bioc/R/library/zlibbioc/include" -I"D:/biocbld/BBS-2˜1.9-B/R/include"    -I"D:/biocbld/bbs-2.9-bioc/R/library/IRanges/include" -I"D:/biocbld/bbs-2.9-bioc/R/library/Biostrings/include" -I"d:/RCompile/CRANpkg/extralibs64/local/include"     -O2 -Wall  -std=gnu99 -mtune=core2 -c xsnap.c -o xsnap.o
g++ -m64 -shared -s -static-libgcc -o ShortRead.dll tmp.def Biostrings_stubs.o IRanges_stubs.o R_init_ShortRead.o alphabet.o io.o io_bowtie.o io_soap.o pileup.o readBfaToc.o read_maq_map.o sampler.o trim.o util.o xsnap.o -LD:/biocbld/bbs-2.9-bioc/R/library/zlibbioc/libs/x64 -lzlib1bioc -Ld:/RCompile/CRANpkg/extralibs64/local/lib/x64 -Ld:/RCompile/CRANpkg/extralibs64/local/lib -LD:/biocbld/BBS-2˜1.9-B/R/bin/x64 -lR
installing to D:/biocbld/bbs-2.9-bioc/meat/ShortRead.buildbin-libdir/ShortRead/libs/x64
** testing if installed package can be loaded
* MD5 sums
packaged installation of 'ShortRead' as ShortRead_1.12.4.zip
* DONE (ShortRead)