SNPchip 1.18.1 Robert Scharpf
 | Snapshot Date: 2012-03-23 18:21:46 -0700 (Fri, 23 Mar 2012) |  | URL: https://hedgehog.fhcrc.org/bioconductor/branches/RELEASE_2_9/madman/Rpacks/SNPchip |  | Last Changed Rev: 60425 / Revision: 64395 |  | Last Changed Date: 2011-11-16 18:16:38 -0800 (Wed, 16 Nov 2011) |  
  | wilson2  | Linux (openSUSE 11.4) / x86_64  |  OK  |  OK  |  | 
| moscato1  | Windows Server 2008 R2 Enterprise SP1 (64-bit) / x64  |  OK  |  OK  | [ OK ] | 
| pitt  | Mac OS X Leopard (10.5.8) / i386  |  OK  |  OK  |  OK  | 
install for i386
* installing *source* package 'SNPchip' ...
** R
** data
** inst
** preparing package for lazy loading
================================================================================
Large dataset support for 'oligo/crlmm': Disabled
     - Load 'ff'
================================================================================
Parallel computing support for 'oligo/crlmm': Disabled
     - Load 'ff'
     - Load 'snow'
     - Use options(cluster=makeCluster(...))
================================================================================
Creating a generic function for 'summary' from package 'base' in package 'SNPchip'
Creating a generic function for 'plot' from package 'graphics' in package 'SNPchip'
** help
*** installing help indices
** building package indices ...
*** tangling vignette sources ...
   'SNPchip.Rnw' 
** testing if installed package can be loaded
================================================================================
Large dataset support for 'oligo/crlmm': Disabled
     - Load 'ff'
================================================================================
Parallel computing support for 'oligo/crlmm': Disabled
     - Load 'ff'
     - Load 'snow'
     - Use options(cluster=makeCluster(...))
================================================================================
Welcome to SNPchip version 1.18.1
add DLL for x64
* installing *source* package 'SNPchip' ...
** testing if installed package can be loaded
================================================================================
Large dataset support for 'oligo/crlmm': Disabled
     - Load 'ff'
================================================================================
Parallel computing support for 'oligo/crlmm': Disabled
     - Load 'ff'
     - Load 'snow'
     - Use options(cluster=makeCluster(...))
================================================================================
Welcome to SNPchip version 1.18.1
* MD5 sums
packaged installation of 'SNPchip' as SNPchip_1.18.1.zip
* DONE (SNPchip)