| RCASPAR 1.0.0 Douaa Mugahid , Lars Kaderali
 
 | Snapshot Date: 2012-03-23 18:21:46 -0700 (Fri, 23 Mar 2012) |  | URL: https://hedgehog.fhcrc.org/bioconductor/branches/RELEASE_2_9/madman/Rpacks/RCASPAR |  | Last Changed Rev: 59920 / Revision: 64395 |  | Last Changed Date: 2011-10-31 15:59:03 -0700 (Mon, 31 Oct 2011) | 
 | wilson2 | Linux (openSUSE 11.4) / x86_64 | OK | OK |  | 
| moscato1 | Windows Server 2008 R2 Enterprise SP1 (64-bit) / x64 | OK | OK | [ OK ] | 
| pitt | Mac OS X Leopard (10.5.8) / i386 | OK | OK | OK | 
install for i386
* installing *source* package 'RCASPAR' ...
** R
** data
** inst
** preparing package for lazy loading
** help
*** installing help indices
** building package indices ...
*** tangling vignette sources ...
   'RCASPAR.Rnw' 
** testing if installed package can be loaded
add DLL for x64
* installing *source* package 'RCASPAR' ...
** testing if installed package can be loaded
* MD5 sums
packaged installation of 'RCASPAR' as RCASPAR_1.0.0.zip
* DONE (RCASPAR)