PAN 1.0.2 Xin Wang
 | Snapshot Date: 2012-03-19 18:21:19 -0700 (Mon, 19 Mar 2012) |  | URL: https://hedgehog.fhcrc.org/bioconductor/branches/RELEASE_2_9/madman/Rpacks/PAN |  | Last Changed Rev: 62731 / Revision: 64131 |  | Last Changed Date: 2012-02-13 08:55:31 -0800 (Mon, 13 Feb 2012) |  
  | wilson2  | Linux (openSUSE 11.4) / x86_64  |  OK  |  OK  |  | 
| moscato1  | Windows Server 2008 R2 Enterprise SP1 (64-bit) / x64  | [ OK ] |  OK  |  OK  | 
| pitt  | Mac OS X Leopard (10.5.8) / i386  |  OK  |  OK  |  OK  | 
* checking for file 'PAN/DESCRIPTION' ... OK
* preparing 'PAN':
* checking DESCRIPTION meta-information ... OK
* installing the package to re-build vignettes
* creating vignettes ... OK
* checking for LF line-endings in source and make files
* checking for empty or unneeded directories
* looking to see if a 'data/datalist' file should be added
* building 'PAN_1.0.2.tar.gz'