GeneRfold 1.12.0 Antoine Lucas
 | Snapshot Date: 2012-03-23 18:21:46 -0700 (Fri, 23 Mar 2012) |  | URL: https://hedgehog.fhcrc.org/bioconductor/branches/RELEASE_2_9/madman/Rpacks/GeneRfold |  | Last Changed Rev: 59920 / Revision: 64395 |  | Last Changed Date: 2011-10-31 15:59:03 -0700 (Mon, 31 Oct 2011) |  
  | wilson2  | Linux (openSUSE 11.4) / x86_64  |  OK  |  OK  |  | 
| moscato1  | Windows Server 2008 R2 Enterprise SP1 (64-bit) / x64  | N O T   S U P P O R T E D | 
| pitt  | Mac OS X Leopard (10.5.8) / i386  | [ OK ] |  OK  |  OK  | 
* checking for file 'GeneRfold/DESCRIPTION' ... OK
* preparing 'GeneRfold':
* checking DESCRIPTION meta-information ... OK
* cleaning src
* running 'cleanup'
* installing the package to re-build vignettes
* creating vignettes ... OK
* cleaning src
* running 'cleanup'
* checking for LF line-endings in source and make files
* checking for empty or unneeded directories
* building 'GeneRfold_1.12.0.tar.gz'