| GeneAnswers 1.10.0 Gang Feng  , Pan Du  and Tian Xia
 
 | Snapshot Date: 2012-03-23 18:21:46 -0700 (Fri, 23 Mar 2012) |  | URL: https://hedgehog.fhcrc.org/bioconductor/branches/RELEASE_2_9/madman/Rpacks/GeneAnswers |  | Last Changed Rev: 59920 / Revision: 64395 |  | Last Changed Date: 2011-10-31 15:59:03 -0700 (Mon, 31 Oct 2011) | 
 | wilson2 | Linux (openSUSE 11.4) / x86_64 | OK | OK |  | 
| moscato1 | Windows Server 2008 R2 Enterprise SP1 (64-bit) / x64 | OK | OK | [ OK ] | 
| pitt | Mac OS X Leopard (10.5.8) / i386 | OK | OK | OK | 
install for i386
* installing *source* package 'GeneAnswers' ...
** R
** data
** inst
** preparing package for lazy loading
Warning in .simpleDuplicateClass(def, prev) :
  A specification for S3 class "connection" in package 'graph' seems equivalent to one from package 'IRanges' and is not turning on duplicate class definitions for this class
Warning in .simpleDuplicateClass(def, prev) :
  A specification for S3 class "file" in package 'graph' seems equivalent to one from package 'IRanges' and is not turning on duplicate class definitions for this class
** help
*** installing help indices
** building package indices ...
*** tangling vignette sources ...
   'GeneAnswersCWAnnotation.Rnw' 
   'geneAnswers.Rnw' 
   'geneFunctionSummarize.Rnw' 
** testing if installed package can be loaded
add DLL for x64
* installing *source* package 'GeneAnswers' ...
** testing if installed package can be loaded
Warning message:
In fun(libname, pkgname) : Rgraphviz built with Graphviz version 2.20.3.
Found installed Graphviz version 2.25.20090912.445. This _may_ cause problems.
* MD5 sums
packaged installation of 'GeneAnswers' as GeneAnswers_1.10.0.zip
* DONE (GeneAnswers)