| GOSemSim 1.12.1 Guangchuang Yu
 
 | Snapshot Date: 2012-03-23 18:21:46 -0700 (Fri, 23 Mar 2012) |  | URL: https://hedgehog.fhcrc.org/bioconductor/branches/RELEASE_2_9/madman/Rpacks/GOSemSim |  | Last Changed Rev: 62497 / Revision: 64395 |  | Last Changed Date: 2012-02-02 19:35:29 -0800 (Thu, 02 Feb 2012) | 
 | wilson2 | Linux (openSUSE 11.4) / x86_64 | OK | OK |  | 
| moscato1 | Windows Server 2008 R2 Enterprise SP1 (64-bit) / x64 | OK | OK | OK | 
| pitt | Mac OS X Leopard (10.5.8) / i386 | OK | OK | [ OK ] | 
>>>>>>> 
>>>>>>> INSTALLATION WITH 'R CMD INSTALL --preclean --no-multiarch --library=GOSemSim.buildbin-libdir GOSemSim_1.12.1.tar.gz'
>>>>>>> 
* installing *source* package 'GOSemSim' ...
** R
** data
** inst
** preparing package for lazy loading
** help
*** installing help indices
** building package indices ...
*** tangling vignette sources ...
   'GOSemSim.Rnw' 
** testing if installed package can be loaded
* DONE (GOSemSim)