GOFunction 0.99.0 Zheng Guo
Snapshot Date: 2011-10-23 18:23:29 -0700 (Sun, 23 Oct 2011) | URL: https://hedgehog.fhcrc.org/bioconductor/trunk/madman/Rpacks/GOFunction | Last Changed Rev: 58368 / Revision: 59591 | Last Changed Date: 2011-09-25 13:37:12 -0700 (Sun, 25 Sep 2011) |
| wilson2 | Linux (openSUSE 11.4) / x86_64 | OK | OK | |
liverpool | Windows Server 2003 R2 (32-bit) / x64 | OK | OK | [ OK ] |
gewurz | Windows Server 2008 R2 Enterprise SP1 (64-bit) / x64 | OK | OK | OK |
moscato1 | Windows Server 2008 R2 Enterprise SP1 (64-bit) / x64 | OK | OK | OK |
pitt | Mac OS X Leopard (10.5.8) / i386 | OK | OK | OK |
* installing *source* package 'GOFunction' ...
** R
** data
** inst
** preparing package for lazy loading
** help
*** installing help indices
** building package indices ...
*** tangling vignette sources ...
'GOFunction.Rnw'
** testing if installed package can be loaded
* MD5 sums
packaged installation of 'GOFunction' as GOFunction_0.99.0.zip
* DONE (GOFunction)