AnnotationFuncs 1.1.2 Stefan McKinnon Edwards
| Snapshot Date: 2011-06-21 19:21:48 -0700 (Tue, 21 Jun 2011) | | URL: https://hedgehog.fhcrc.org/bioconductor/trunk/madman/Rpacks/AnnotationFuncs | | Last Changed Rev: 55378 / Revision: 56351 | | Last Changed Date: 2011-05-09 23:59:35 -0700 (Mon, 09 May 2011) |
| wilson2 | Linux (openSUSE 11.4) / x86_64 | OK | ERROR | |
| liverpool | Windows Server 2003 R2 (32-bit) / x64 | OK | ERROR | OK |
| gewurz | Windows Server 2008 R2 Enterprise (64-bit) / x64 | OK | ERROR | OK |
| moscato1 | Windows Server 2008 R2 Enterprise (64-bit) / x64 | OK | ERROR | OK |
| pelham | Mac OS X Leopard (10.5.8) / i386 | [ OK ] | ERROR | OK |
* checking for file ‘AnnotationFuncs/DESCRIPTION’ ... OK
* preparing ‘AnnotationFuncs’:
* checking DESCRIPTION meta-information ... OK
* installing the package to re-build vignettes
* creating vignettes ... OK
* checking for LF line-endings in source and make files
* checking for empty or unneeded directories
* building ‘AnnotationFuncs_1.1.2.tar.gz’