| AnnotationDbi 1.16.10 Bioconductor Package Maintainer
 
 | Snapshot Date: 2012-01-08 18:22:44 -0800 (Sun, 08 Jan 2012) |  | URL: https://hedgehog.fhcrc.org/bioconductor/branches/RELEASE_2_9/madman/Rpacks/AnnotationDbi |  | Last Changed Rev: 61192 / Revision: 61898 |  | Last Changed Date: 2011-12-07 13:56:26 -0800 (Wed, 07 Dec 2011) | 
 | wilson2 | Linux (openSUSE 11.4) / x86_64 | OK | OK |  | 
| liverpool | Windows Server 2003 R2 (32-bit) / x64 | OK | OK | [ OK ] | 
| gewurz | Windows Server 2008 R2 Enterprise SP1 (64-bit) / x64 | OK | OK | OK | 
| moscato1 | Windows Server 2008 R2 Enterprise SP1 (64-bit) / x64 | OK | OK | OK | 
| pitt | Mac OS X Leopard (10.5.8) / i386 | OK | OK | OK | 
* installing *source* package 'AnnotationDbi' ...
** R
** inst
** preparing package for lazy loading
Creating a generic function for 'toString' from package 'base' in package 'AnnotationDbi'
Creating a generic function for 'rev' from package 'base' in package 'AnnotationDbi'
Creating a generic function for 'colnames' from package 'base' in package 'AnnotationDbi'
Creating a generic function for 'subset' from package 'base' in package 'AnnotationDbi'
Creating a generic function for 'as.data.frame' from package 'base' in package 'AnnotationDbi'
Creating a generic function for 'head' from package 'utils' in package 'AnnotationDbi'
Creating a generic function for 'tail' from package 'utils' in package 'AnnotationDbi'
Creating a generic function for 'nrow' from package 'base' in package 'AnnotationDbi'
Creating a generic function for 'ncol' from package 'base' in package 'AnnotationDbi'
Creating a generic function for 'as.list' from package 'base' in package 'AnnotationDbi'
Creating a generic function for 'ls' from package 'base' in package 'AnnotationDbi'
Creating a generic function for 'mget' from package 'base' in package 'AnnotationDbi'
Creating a generic function for 'eapply' from package 'base' in package 'AnnotationDbi'
Creating a generic function for 'get' from package 'base' in package 'AnnotationDbi'
Creating a generic function for 'exists' from package 'base' in package 'AnnotationDbi'
Creating a generic function for 'sample' from package 'base' in package 'AnnotationDbi'
** help
*** installing help indices
** building package indices ...
*** tangling vignette sources ...
   'AnnotationDbi.Rnw' 
   'NewSchema.Rnw' 
   'SQLForge.Rnw' 
   'makeProbePackage.Rnw' 
** testing if installed package can be loaded
* MD5 sums
packaged installation of 'AnnotationDbi' as AnnotationDbi_1.16.10.zip
* DONE (AnnotationDbi)