| xmapbridge 1.11.0 Tim Yates
 
 | Snapshot Date: 2011-07-06 19:21:50 -0700 (Wed, 06 Jul 2011) |  | URL: https://hedgehog.fhcrc.org/bioconductor/trunk/madman/Rpacks/xmapbridge |  | Last Changed Rev: 56090 / Revision: 56603 |  | Last Changed Date: 2011-06-09 17:02:42 -0700 (Thu, 09 Jun 2011) | 
 | wilson2 | Linux (openSUSE 11.4) / x86_64 | OK | OK |  | 
| liverpool | Windows Server 2003 R2 (32-bit) / x64 | OK | OK | OK | 
| gewurz | Windows Server 2008 R2 Enterprise (64-bit) / x64 | OK | OK | [ OK ] | 
| moscato1 | Windows Server 2008 R2 Enterprise (64-bit) / x64 | OK | OK | OK | 
| pitt | Mac OS X Leopard (10.5.8) / i386 | OK | OK | OK | 
* installing *source* package 'xmapbridge' ...
** R
** data
** inst
** preparing package for lazy loading
** help
*** installing help indices
** building package indices ...
*** tangling vignette sources ...
   'xmapbridge.Rnw' 
** testing if installed package can be loaded
* MD5 sums
packaged installation of 'xmapbridge' as xmapbridge_1.11.0.zip
* DONE (xmapbridge)