| Back to the "Multiple platform build/check report" | A B C D E F G H I J K L M N O P Q R [S] T U V W X Y Z |
| Package 435/479 | Hostname | OS / Arch | BUILD | CHECK | BUILD BIN | ||||
| snm 1.1.0 Brig Mecham
| wilson2 | Linux (openSUSE 11.4) / x86_64 | OK | OK | |||||
| liverpool | Windows Server 2003 R2 (32-bit) / x64 | OK | OK | OK | |||||
| gewurz | Windows Server 2008 R2 Enterprise (64-bit) / x64 | OK | OK | [ OK ] | |||||
| moscato1 | Windows Server 2008 R2 Enterprise (64-bit) / x64 | OK | OK | OK | |||||
| pitt | Mac OS X Leopard (10.5.8) / i386 | OK | OK | OK |
| Package: snm |
| Version: 1.1.0 |
| Command: mkdir snm.buildbin-libdir && D:\biocbld\bbs-2.9-bioc\R\bin\R.exe CMD INSTALL --build --no-multiarch --library=snm.buildbin-libdir snm_1.1.0.tar.gz |
| StartedAt: 2011-07-07 07:15:52 -0700 (Thu, 07 Jul 2011) |
| EndedAt: 2011-07-07 07:15:58 -0700 (Thu, 07 Jul 2011) |
| EllapsedTime: 6.1 seconds |
| RetCode: 0 |
| Status: OK |
| PackageFile: snm_1.1.0.zip |
| PackageFileSize: 645.2 KiB |
* installing *source* package 'snm' ... ** R ** inst ** help *** installing help indices ** building package indices ... *** tangling vignette sources ... 'snm.Rnw' ** testing if installed package can be loaded * MD5 sums packaged installation of 'snm' as snm_1.1.0.zip * DONE (snm)