htSeqTools 0.99.1 Oscar Reina
Snapshot Date: 2011-07-06 19:21:50 -0700 (Wed, 06 Jul 2011) | URL: https://hedgehog.fhcrc.org/bioconductor/trunk/madman/Rpacks/htSeqTools | Last Changed Rev: 56572 / Revision: 56603 | Last Changed Date: 2011-07-05 15:04:58 -0700 (Tue, 05 Jul 2011) |
| wilson2 | Linux (openSUSE 11.4) / x86_64 | OK | OK | |
liverpool | Windows Server 2003 R2 (32-bit) / x64 | OK | ERROR | OK |
gewurz | Windows Server 2008 R2 Enterprise (64-bit) / x64 | OK | OK | [ OK ] |
moscato1 | Windows Server 2008 R2 Enterprise (64-bit) / x64 | OK | ERROR | ERROR |
pitt | Mac OS X Leopard (10.5.8) / i386 | OK | OK | OK |
* installing *source* package 'htSeqTools' ...
** R
** data
** inst
** preparing package for lazy loading
Welcome to Bioconductor
Vignettes contain introductory material. To view, type
'browseVignettes()'. To cite Bioconductor, see
'citation("Biobase")' and for packages 'citation("pkgname")'.
Attaching package: 'IRanges'
The following object(s) are masked from 'package:Biobase':
updateObject
The following object(s) are masked from 'package:base':
Map, cbind, eval, intersect, mapply, order, paste, pmax, pmax.int,
pmin, pmin.int, rbind, rep.int, setdiff, table, union
Loading required package: GenomicRanges
Loading required package: Biostrings
Creating a generic function for "plot" from package "graphics" in package "htSeqTools"
Creating a generic function for "lines" from package "graphics" in package "htSeqTools"
** help
*** installing help indices
** building package indices ...
*** tangling vignette sources ...
'htSeqTools.Rnw'
** testing if installed package can be loaded
* MD5 sums
packaged installation of 'htSeqTools' as htSeqTools_0.99.1.zip
* DONE (htSeqTools)