| flowClust 2.11.0 Raphael Gottardo
 
 | Snapshot Date: 2011-07-06 19:21:50 -0700 (Wed, 06 Jul 2011) |  | URL: https://hedgehog.fhcrc.org/bioconductor/trunk/madman/Rpacks/flowClust |  | Last Changed Rev: 56153 / Revision: 56603 |  | Last Changed Date: 2011-06-13 15:40:41 -0700 (Mon, 13 Jun 2011) | 
 | wilson2 | Linux (openSUSE 11.4) / x86_64 | OK | WARNINGS |  | 
| liverpool | Windows Server 2003 R2 (32-bit) / x64 | OK | WARNINGS | OK | 
| gewurz | Windows Server 2008 R2 Enterprise (64-bit) / x64 | OK | WARNINGS | [ OK ] | 
| moscato1 | Windows Server 2008 R2 Enterprise (64-bit) / x64 | OK | WARNINGS | OK | 
| pitt | Mac OS X Leopard (10.5.8) / i386 | OK | WARNINGS | OK | 
* installing *source* package 'flowClust' ...
   **********************************************
   WARNING: this package has a configure script
         It probably needs manual configuration
   **********************************************
** libs
x86_64-w64-mingw32-gcc  -I"D:/biocbld/bbs-2.9-bioc/R/include"       -I/src/include -IC:/GSL/x64/include   -O2 -Wall  -std=gnu99 -c BoxCox.c -o BoxCox.o
x86_64-w64-mingw32-gcc  -I"D:/biocbld/bbs-2.9-bioc/R/include"       -I/src/include -IC:/GSL/x64/include   -O2 -Wall  -std=gnu99 -c Nu.c -o Nu.o
x86_64-w64-mingw32-gcc  -I"D:/biocbld/bbs-2.9-bioc/R/include"       -I/src/include -IC:/GSL/x64/include   -O2 -Wall  -std=gnu99 -c flowClust.c -o flowClust.o
flowClust.c: In function 'flowClust':
flowClust.c:49:21: warning: 's' may be used uninitialized in this function
flowClust.c:49:25: warning: 's2' may be used uninitialized in this function
flowClust.c:51:23: warning: 's3' may be used uninitialized in this function
x86_64-w64-mingw32-gcc  -I"D:/biocbld/bbs-2.9-bioc/R/include"       -I/src/include -IC:/GSL/x64/include   -O2 -Wall  -std=gnu99 -c flowClustGaussian.c -o flowClustGaussian.o
flowClustGaussian.c: In function 'flowClustGaussian':
flowClustGaussian.c:33:21: warning: 's' may be used uninitialized in this function
x86_64-w64-mingw32-gcc  -I"D:/biocbld/bbs-2.9-bioc/R/include"       -I/src/include -IC:/GSL/x64/include   -O2 -Wall  -std=gnu99 -c ranMVNT.c -o ranMVNT.o
x86_64-w64-mingw32-gcc -shared -s -static-libgcc -o flowClust.dll tmp.def BoxCox.o Nu.o flowClust.o flowClustGaussian.o ranMVNT.o -LC:/GSL/x64/lib -lgsl -lgslcblas -lm -LD:/biocbld/bbs-2.9-bioc/R/bin/x64 -lR
installing to D:/biocbld/bbs-2.9-bioc/meat/flowClust.buildbin-libdir/flowClust/libs/x64
** R
** data
** inst
** preparing package for lazy loading
Welcome to Bioconductor
  Vignettes contain introductory material. To view, type
  'browseVignettes()'. To cite Bioconductor, see
  'citation("Biobase")' and for packages 'citation("pkgname")'.
Loading required package: rrcov
Loading required package: robustbase
Loading required package: pcaPP
Loading required package: mvtnorm
Scalable Robust Estimators with High Breakdown Point (version 1.3-01)
Attaching package: 'flowCore'
The following object(s) are masked from 'package:stats':
    alias, filter
Warning: Class "Ulist" is defined (with package slot 'rrcov') but no metadata object found to revise subclass information---not exported?  Making a copy in package 'flowClust'
Warning: Class "Uvector" is defined (with package slot 'rrcov') but no metadata object found to revise subclass information---not exported?  Making a copy in package 'flowClust'
** help
*** installing help indices
** building package indices ...
*** tangling vignette sources ...
   'flowClust.Rnw' 
Warning: value of 'results' option should be lowercase
Warning: value of 'results' option should be lowercase
** testing if installed package can be loaded
Scalable Robust Estimators with High Breakdown Point (version 1.3-01)
* MD5 sums
packaged installation of 'flowClust' as flowClust_2.11.0.zip
* DONE (flowClust)