| Back to the "Multiple platform build/check report" | A B C D [E] F G H I J K L M N O P Q R S T U V W X Y Z |
| Package 146/479 | Hostname | OS / Arch | BUILD | CHECK | BUILD BIN | ||||
| externalVector 1.19.0 Biocore Team c/o BioC user list
| wilson2 | Linux (openSUSE 11.4) / x86_64 | OK | OK | |||||
| liverpool | Windows Server 2003 R2 (32-bit) / x64 | OK | OK | OK | |||||
| gewurz | Windows Server 2008 R2 Enterprise (64-bit) / x64 | OK | OK | OK | |||||
| moscato1 | Windows Server 2008 R2 Enterprise (64-bit) / x64 | [ OK ] | OK | OK | |||||
| pitt | Mac OS X Leopard (10.5.8) / i386 | OK | OK | OK |
| Package: externalVector |
| Version: 1.19.0 |
| Command: chmod a+r externalVector -R && D:\biocbld\bbs-2.9-bioc\R\bin\R.exe CMD build --keep-empty-dirs --no-resave-data externalVector |
| StartedAt: 2011-07-07 02:50:29 -0700 (Thu, 07 Jul 2011) |
| EndedAt: 2011-07-07 02:50:35 -0700 (Thu, 07 Jul 2011) |
| EllapsedTime: 5.8 seconds |
| RetCode: 0 |
| Status: OK |
| PackageFile: externalVector_1.19.0.tar.gz |
| PackageFileSize: 83.58 KiB |
* checking for file 'externalVector/DESCRIPTION' ... OK * preparing 'externalVector': * checking DESCRIPTION meta-information ... OK * cleaning src * checking for LF line-endings in source and make files * checking for empty or unneeded directories * building 'externalVector_1.19.0.tar.gz'