| charm 1.5.5 Martin Aryee
 
 | Snapshot Date: 2011-07-06 19:21:50 -0700 (Wed, 06 Jul 2011) |  | URL: https://hedgehog.fhcrc.org/bioconductor/trunk/madman/Rpacks/charm |  | Last Changed Rev: 56014 / Revision: 56603 |  | Last Changed Date: 2011-06-06 18:42:48 -0700 (Mon, 06 Jun 2011) | 
 | wilson2 | Linux (openSUSE 11.4) / x86_64 | OK | WARNINGS |  | 
| liverpool | Windows Server 2003 R2 (32-bit) / x64 | OK | WARNINGS | OK | 
| gewurz | Windows Server 2008 R2 Enterprise (64-bit) / x64 | OK | WARNINGS | OK | 
| moscato1 | Windows Server 2008 R2 Enterprise (64-bit) / x64 | [ OK ] | WARNINGS | OK | 
| pitt | Mac OS X Leopard (10.5.8) / i386 | OK | WARNINGS | OK | 
* checking for file 'charm/DESCRIPTION' ... OK
* preparing 'charm':
* checking DESCRIPTION meta-information ... OK
* installing the package to re-build vignettes
* creating vignettes ... OK
* checking for LF line-endings in source and make files
* checking for empty or unneeded directories
* building 'charm_1.5.5.tar.gz'