| cellHTS2 2.17.2 Florian Hahne
 
 | Snapshot Date: 2011-07-06 19:21:50 -0700 (Wed, 06 Jul 2011) |  | URL: https://hedgehog.fhcrc.org/bioconductor/trunk/madman/Rpacks/cellHTS2 |  | Last Changed Rev: 56202 / Revision: 56603 |  | Last Changed Date: 2011-06-15 06:46:06 -0700 (Wed, 15 Jun 2011) | 
 | wilson2 | Linux (openSUSE 11.4) / x86_64 | OK | OK |  | 
| liverpool | Windows Server 2003 R2 (32-bit) / x64 | OK | OK | OK | 
| gewurz | Windows Server 2008 R2 Enterprise (64-bit) / x64 | OK | OK | OK | 
| moscato1 | Windows Server 2008 R2 Enterprise (64-bit) / x64 | OK | OK | OK | 
| pitt | Mac OS X Leopard (10.5.8) / i386 | OK | OK | [ OK ] | 
>>>>>>> 
>>>>>>> INSTALLATION WITH 'R CMD INSTALL --preclean --library=cellHTS2.buildbin-libdir cellHTS2_2.17.2.tar.gz'
>>>>>>> 
* installing *source* package 'cellHTS2' ...
** R
** data
** inst
** preparing package for lazy loading
Welcome to Bioconductor
  Vignettes contain introductory material. To view, type
  'browseVignettes()'. To cite Bioconductor, see
  'citation("Biobase")' and for packages 'citation("pkgname")'.
Loading required package: akima
Loading required package: lattice
locfit 1.5-6 	 2010-01-20 
Scalable Robust Estimators with High Breakdown Point (version 1.3-01)
Creating a generic function for "lines" from package "graphics" in package "cellHTS2"
** help
*** installing help indices
** building package indices ...
*** tangling vignette sources ...
   'cellhts2.Rnw' 
   'cellhts2Complete.Rnw' 
   'twoChannels.Rnw' 
   'twoWay.Rnw' 
** testing if installed package can be loaded
locfit 1.5-6 	 2010-01-20 
Scalable Robust Estimators with High Breakdown Point (version 1.3-01)
* DONE (cellHTS2)