| aroma.light 1.21.0 Henrik Bengtsson
 
 | Snapshot Date: 2011-07-06 19:21:50 -0700 (Wed, 06 Jul 2011) |  | URL: https://hedgehog.fhcrc.org/bioconductor/trunk/madman/Rpacks/aroma.light |  | Last Changed Rev: 54869 / Revision: 56603 |  | Last Changed Date: 2011-04-14 18:05:47 -0700 (Thu, 14 Apr 2011) | 
 | wilson2 | Linux (openSUSE 11.4) / x86_64 | [ OK ] | ERROR |  | 
| liverpool | Windows Server 2003 R2 (32-bit) / x64 | OK | ERROR | OK | 
| gewurz | Windows Server 2008 R2 Enterprise (64-bit) / x64 | OK | ERROR | OK | 
| moscato1 | Windows Server 2008 R2 Enterprise (64-bit) / x64 | OK | ERROR | ERROR | 
| pitt | Mac OS X Leopard (10.5.8) / i386 | OK | ERROR | OK |