| Back to the "Multiple platform build/check report" | [A] B C D E F G H I J K L M N O P Q R S T U V W X Y Z | 
| Package 6/479 | Hostname | OS / Arch | BUILD | CHECK | BUILD BIN | ||||
| a4Reporting 1.1.1 Tobias Verbeke 
 | wilson2 | Linux (openSUSE 11.4) / x86_64 | OK | OK | |||||
| liverpool | Windows Server 2003 R2 (32-bit) / x64 | OK | OK | OK | |||||
| gewurz | Windows Server 2008 R2 Enterprise (64-bit) / x64 | OK | OK | OK | |||||
| moscato1 | Windows Server 2008 R2 Enterprise (64-bit) / x64 | OK | OK | OK | |||||
| pitt | Mac OS X Leopard (10.5.8) / i386 | [ OK ] | OK | OK | 
| Package: a4Reporting | 
| Version: 1.1.1 | 
| Command: /Library/Frameworks/R.framework/Versions/2.14/Resources/bin/R CMD build --keep-empty-dirs --no-resave-data a4Reporting | 
| StartedAt: 2011-07-07 00:51:50 -0700 (Thu, 07 Jul 2011) | 
| EndedAt: 2011-07-07 00:51:52 -0700 (Thu, 07 Jul 2011) | 
| EllapsedTime: 2.0 seconds | 
| RetCode: 0 | 
| Status: OK | 
| PackageFile: a4Reporting_1.1.1.tar.gz | 
| PackageFileSize: 5.175 KiB | 
* checking for file 'a4Reporting/DESCRIPTION' ... OK * preparing 'a4Reporting': * checking DESCRIPTION meta-information ... OK * checking for LF line-endings in source and make files * checking for empty or unneeded directories * building 'a4Reporting_1.1.1.tar.gz'