SamSPECTRAL 1.7.3 Habil Zare
 | Snapshot Date: 2011-07-06 19:21:50 -0700 (Wed, 06 Jul 2011) |  | URL: https://hedgehog.fhcrc.org/bioconductor/trunk/madman/Rpacks/SamSPECTRAL |  | Last Changed Rev: 56066 / Revision: 56603 |  | Last Changed Date: 2011-06-08 15:07:12 -0700 (Wed, 08 Jun 2011) |  
  | wilson2  | Linux (openSUSE 11.4) / x86_64  |  OK  |  OK  |  | 
| liverpool  | Windows Server 2003 R2 (32-bit) / x64  |  OK  |  OK  | [ OK ] | 
| gewurz  | Windows Server 2008 R2 Enterprise (64-bit) / x64  |  OK  |  OK  |  OK  | 
| moscato1  | Windows Server 2008 R2 Enterprise (64-bit) / x64  |  OK  |  OK  |  OK  | 
| pitt  | Mac OS X Leopard (10.5.8) / i386  |  OK  |  OK  |  OK  | 
* installing *source* package 'SamSPECTRAL' ...
** libs
gcc  -I"E:/biocbld/bbs-2.9-bioc/R/include"          -O3 -Wall  -std=gnu99 -c Rinit.c -o Rinit.o
gcc  -I"E:/biocbld/bbs-2.9-bioc/R/include"          -O3 -Wall  -std=gnu99 -c conductance_computation.c -o conductance_computation.o
conductance_computation.c: In function 'conductance_computation':
conductance_computation.c:153:31: warning: unused variable 'dj'
conductance_computation.c:153:27: warning: unused variable 'di'
conductance_computation.c:152:20: warning: unused variable 'memberLen'
gcc  -I"E:/biocbld/bbs-2.9-bioc/R/include"          -O3 -Wall  -std=gnu99 -c maximum_of_rows.c -o maximum_of_rows.o
gcc -shared -s -static-libgcc -o SamSPECTRAL.dll tmp.def Rinit.o conductance_computation.o maximum_of_rows.o -LE:/biocbld/bbs-2.9-bioc/R/bin/i386 -lR
installing to E:/biocbld/bbs-2.9-bioc/meat/SamSPECTRAL.buildbin-libdir/SamSPECTRAL/libs/i386
** R
** data
** inst
** preparing package for lazy loading
** help
*** installing help indices
** building package indices ...
*** tangling vignette sources ...
   'Clustering_by_SamSPECTRAL.Rnw' 
** testing if installed package can be loaded
* MD5 sums
packaged installation of 'SamSPECTRAL' as SamSPECTRAL_1.7.3.zip
* DONE (SamSPECTRAL)