RTools4TB 1.9.0 Aurelie Bergon
Snapshot Date: 2011-06-26 19:21:50 -0700 (Sun, 26 Jun 2011) | URL: https://hedgehog.fhcrc.org/bioconductor/trunk/madman/Rpacks/RTools4TB | Last Changed Rev: 54802 / Revision: 56415 | Last Changed Date: 2011-04-13 15:36:43 -0700 (Wed, 13 Apr 2011) |
| wilson2 | Linux (openSUSE 11.4) / x86_64 | OK | OK | |
liverpool | Windows Server 2003 R2 (32-bit) / x64 | ERROR | skipped | skipped |
gewurz | Windows Server 2008 R2 Enterprise (64-bit) / x64 | ERROR | skipped | skipped |
moscato1 | Windows Server 2008 R2 Enterprise (64-bit) / x64 | OK | OK | [ OK ] |
pitt | Mac OS X Leopard (10.5.8) / i386 | ERROR | skipped | skipped |
install for i386
* installing *source* package 'RTools4TB' ...
** libs
gcc -I"D:/biocbld/BBS-2˜1.9-B/R/include" -O3 -Wall -std=gnu99 -c dbf.c -o dbf.o
gcc -shared -s -static-libgcc -o RTools4TB.dll tmp.def dbf.o -LD:/biocbld/BBS-2˜1.9-B/R/bin/i386 -lR
installing to D:/biocbld/bbs-2.9-bioc/meat/RTools4TB.buildbin-libdir/RTools4TB/libs/i386
** R
** data
** inst
** preparing package for lazy loading
Welcome to Bioconductor
Vignettes contain introductory material. To view, type
'browseVignettes()'. To cite Bioconductor, see
'citation("Biobase")' and for packages 'citation("pkgname")'.
** help
*** installing help indices
** building package indices ...
*** tangling vignette sources ...
'RTools4TB.Rnw'
** testing if installed package can be loaded
add DLL for x64
* installing *source* package 'RTools4TB' ...
** libs
x86_64-w64-mingw32-gcc -I"D:/biocbld/BBS-2˜1.9-B/R/include" -O2 -Wall -std=gnu99 -c dbf.c -o dbf.o
dbf.c: In function 'dbf_':
dbf.c:677:4: warning: format '%ld' expects type 'long int', but argument 3 has type 'time_t'
x86_64-w64-mingw32-gcc -shared -s -static-libgcc -o RTools4TB.dll tmp.def dbf.o -LD:/biocbld/BBS-2˜1.9-B/R/bin/x64 -lR
installing to D:/biocbld/bbs-2.9-bioc/meat/RTools4TB.buildbin-libdir/RTools4TB/libs/x64
** testing if installed package can be loaded
* MD5 sums
packaged installation of 'RTools4TB' as RTools4TB_1.9.0.zip
* DONE (RTools4TB)