| RNAither 2.1.1 Nora Rieber
 
 | Snapshot Date: 2011-07-06 19:21:50 -0700 (Wed, 06 Jul 2011) |  | URL: https://hedgehog.fhcrc.org/bioconductor/trunk/madman/Rpacks/RNAither |  | Last Changed Rev: 56555 / Revision: 56603 |  | Last Changed Date: 2011-07-05 07:47:19 -0700 (Tue, 05 Jul 2011) | 
 | wilson2 | Linux (openSUSE 11.4) / x86_64 | OK | ERROR |  | 
| liverpool | Windows Server 2003 R2 (32-bit) / x64 | OK | ERROR | OK | 
| gewurz | Windows Server 2008 R2 Enterprise (64-bit) / x64 | OK | ERROR | OK | 
| moscato1 | Windows Server 2008 R2 Enterprise (64-bit) / x64 | OK | ERROR | ERROR | 
| pitt | Mac OS X Leopard (10.5.8) / i386 | OK | ERROR | [ OK ] | 
>>>>>>> 
>>>>>>> INSTALLATION WITH 'R CMD INSTALL --preclean --library=RNAither.buildbin-libdir RNAither_2.1.1.tar.gz'
>>>>>>> 
* installing *source* package 'RNAither' ...
** R
** data
** inst
** preparing package for lazy loading
Loading required package: graph
Loading required package: Biobase
Welcome to Bioconductor
  Vignettes contain introductory material. To view, type
  'browseVignettes()'. To cite Bioconductor, see
  'citation("Biobase")' and for packages 'citation("pkgname")'.
Loading required package: GO.db
Loading required package: AnnotationDbi
Loading required package: DBI
Loading required package: SparseM
Package SparseM (0.89) loaded.
	   To cite, see citation("SparseM")
Attaching package: 'SparseM'
The following object(s) are masked from 'package:base':
    backsolve
groupGOTerms: 	GOBPTerm, GOMFTerm, GOCCTerm environments built.
Loading required package: RColorBrewer
Loading required package: grid
Loading required package: rrcov
Loading required package: robustbase
Loading required package: pcaPP
Loading required package: mvtnorm
Scalable Robust Estimators with High Breakdown Point (version 1.3-01)
** help
*** installing help indices
** building package indices ...
*** tangling vignette sources ...
   'vignetteRNAither.Rnw' 
** testing if installed package can be loaded
groupGOTerms: 	GOBPTerm, GOMFTerm, GOCCTerm environments built.
Scalable Robust Estimators with High Breakdown Point (version 1.3-01)
* DONE (RNAither)