| MBCB 1.7.0 Jeff Allen
 
 | Snapshot Date: 2011-07-06 19:21:50 -0700 (Wed, 06 Jul 2011) |  | URL: https://hedgehog.fhcrc.org/bioconductor/trunk/madman/Rpacks/MBCB |  | Last Changed Rev: 54802 / Revision: 56603 |  | Last Changed Date: 2011-04-13 15:36:43 -0700 (Wed, 13 Apr 2011) | 
 | wilson2 | Linux (openSUSE 11.4) / x86_64 | OK | OK |  | 
| liverpool | Windows Server 2003 R2 (32-bit) / x64 | OK | OK | OK | 
| gewurz | Windows Server 2008 R2 Enterprise (64-bit) / x64 | OK | OK | [ OK ] | 
| moscato1 | Windows Server 2008 R2 Enterprise (64-bit) / x64 | OK | OK | OK | 
| pitt | Mac OS X Leopard (10.5.8) / i386 | OK | OK | OK | 
* installing *source* package 'MBCB' ...
** R
** data
** inst
** preparing package for lazy loading
Loading Tcl/Tk interface ... done
** help
*** installing help indices
** building package indices ...
*** tangling vignette sources ...
   'MBCB.Rnw' using 'UTF-8' 
** testing if installed package can be loaded
* MD5 sums
packaged installation of 'MBCB' as MBCB_1.7.0.zip
* DONE (MBCB)