| IsoGeneGUI 1.5.0 Setia Pramana
 
 | Snapshot Date: 2011-06-21 19:21:48 -0700 (Tue, 21 Jun 2011) |  | URL: https://hedgehog.fhcrc.org/bioconductor/trunk/madman/Rpacks/IsoGeneGUI |  | Last Changed Rev: 54810 / Revision: 56351 |  | Last Changed Date: 2011-04-13 18:14:51 -0700 (Wed, 13 Apr 2011) | 
 | wilson2 | Linux (openSUSE 11.4) / x86_64 | OK | OK |  | 
| liverpool | Windows Server 2003 R2 (32-bit) / x64 | OK | OK | OK | 
| gewurz | Windows Server 2008 R2 Enterprise (64-bit) / x64 | OK | OK | OK | 
| moscato1 | Windows Server 2008 R2 Enterprise (64-bit) / x64 | OK | OK | OK | 
| pelham | Mac OS X Leopard (10.5.8) / i386 | OK | OK | [ OK ] | 
>>>>>>> 
>>>>>>> INSTALLATION WITH 'R CMD INSTALL --preclean --library=IsoGeneGUI.buildbin-libdir IsoGeneGUI_1.5.0.tar.gz'
>>>>>>> 
* installing *source* package ‘IsoGeneGUI’ ...
** R
** inst
** preparing package for lazy loading
Loading Tcl/Tk interface ... done
Loading required package: Iso
Iso 0.0-8 
Note: This package now has a NAMESPACE.
Loading required package: affy
Loading required package: Biobase
Welcome to Bioconductor
  Vignettes contain introductory material. To view, type
  'browseVignettes()'. To cite Bioconductor, see
  'citation("Biobase")' and for packages 'citation("pkgname")'.
Loading required package: ff
Loading required package: tools
Loading required package: bit
Loading package bit1.1-7
package:bit (c) 2008/2009 Jens Oehlschlaegel (GPL-2)
creators: bit bitwhich
coercion: as.logical as.integer as.bit as.bitwhich which
operator: ! & | xor != == 
querying: print length any all min max range sum summary
bit access: length<- [ [<- [[ [[<-
for more help type ?bit
Attaching package: ‘bit’
The following object(s) are masked from ‘package:base’:
    xor
Loading package ff2.2-2
- getOption("fftempdir")=="/tmp/RtmprM4a1C"
- getOption("ffextension")=="ff"
- getOption("ffdrop")==TRUE
- getOption("fffinonexit")==TRUE
- getOption("ffpagesize")==65536
- getOption("ffcaching")=="mmnoflush"  -- consider "ffeachflush" if your system stalls on large writes
- getOption("ffbatchbytes")==16777216 -- consider a different value for tuning your system
- getOption("ffmaxbytes")==536870912 -- consider a different value for tuning your system
Attaching package ff
Attaching package: ‘ff’
The following object(s) are masked from ‘package:utils’:
    write.csv, write.csv2
The following object(s) are masked from ‘package:base’:
    is.factor, is.ordered
** help
*** installing help indices
** building package indices ...
*** tangling vignette sources ...
   ‘IsoGeneGUI.Rnw’ 
** testing if installed package can be loaded
Iso 0.0-8 
Note: This package now has a NAMESPACE.
* DONE (IsoGeneGUI)