| Back to the "Multiple platform build/check report" | A B C D E F G H [I] J K L M N O P Q R S T U V W X Y Z | 
| Package 240/479 | Hostname | OS / Arch | BUILD | CHECK | BUILD BIN | ||||
| IdMappingRetrieval 0.99.1 Alex Lisovich 
 | wilson2 | Linux (openSUSE 11.4) / x86_64 | OK | OK | |||||
| liverpool | Windows Server 2003 R2 (32-bit) / x64 | OK | OK | OK | |||||
| gewurz | Windows Server 2008 R2 Enterprise (64-bit) / x64 | OK | OK | OK | |||||
| moscato1 | Windows Server 2008 R2 Enterprise (64-bit) / x64 | OK | [ ERROR ] | ERROR | |||||
| pitt | Mac OS X Leopard (10.5.8) / i386 | ERROR | skipped | skipped | 
| Package: IdMappingRetrieval | 
| Version: 0.99.1 | 
| Command: mkdir IdMappingRetrieval.buildbin-libdir && D:\biocbld\bbs-2.9-bioc\R\bin\R.exe CMD INSTALL --build --merge-multiarch --library=IdMappingRetrieval.buildbin-libdir IdMappingRetrieval_0.99.1.tar.gz >IdMappingRetrieval-install.out 2>&1 && D:\biocbld\bbs-2.9-bioc\R\bin\R.exe CMD check --library=IdMappingRetrieval.buildbin-libdir --install="check:IdMappingRetrieval-install.out" --force-multiarch --no-vignettes --timings IdMappingRetrieval_0.99.1.tar.gz && mv IdMappingRetrieval.buildbin-libdir/* IdMappingRetrieval.Rcheck/ && rmdir IdMappingRetrieval.buildbin-libdir | 
| StartedAt: 2011-07-07 05:24:11 -0700 (Thu, 07 Jul 2011) | 
| EndedAt: 2011-07-07 05:24:33 -0700 (Thu, 07 Jul 2011) | 
| EllapsedTime: 22.3 seconds | 
| RetCode: 1 | 
| Status: ERROR | 
| CheckDir: None | 
| Warnings: NA |