GenomicFeatures 1.5.14 Biocore Team c/o BioC user list
 | Snapshot Date: 2011-07-06 19:21:50 -0700 (Wed, 06 Jul 2011) |  | URL: https://hedgehog.fhcrc.org/bioconductor/trunk/madman/Rpacks/GenomicFeatures |  | Last Changed Rev: 56409 / Revision: 56603 |  | Last Changed Date: 2011-06-24 15:36:43 -0700 (Fri, 24 Jun 2011) |  
  | wilson2  | Linux (openSUSE 11.4) / x86_64  |  OK  |  OK  |  | 
| liverpool  | Windows Server 2003 R2 (32-bit) / x64  |  OK  |  OK  |  OK  | 
| gewurz  | Windows Server 2008 R2 Enterprise (64-bit) / x64  |  OK  |  OK  |  OK  | 
| moscato1  | Windows Server 2008 R2 Enterprise (64-bit) / x64  |  OK  |  OK  | [ OK ] | 
| pitt  | Mac OS X Leopard (10.5.8) / i386  |  OK  |  OK  |  OK  | 
install for i386
* installing *source* package 'GenomicFeatures' ...
** R
** inst
** preparing package for lazy loading
Attaching package: 'IRanges'
The following object(s) are masked from 'package:base':
    Map, cbind, eval, intersect, mapply, order, paste, pmax, pmax.int,
    pmin, pmin.int, rbind, rep.int, setdiff, table, union
** help
*** installing help indices
** building package indices ...
*** tangling vignette sources ...
   'GenomicFeatures.Rnw' 
   'examples.Rnw' 
** testing if installed package can be loaded
add DLL for x64
* installing *source* package 'GenomicFeatures' ...
** testing if installed package can be loaded
* MD5 sums
packaged installation of 'GenomicFeatures' as GenomicFeatures_1.5.14.zip
* DONE (GenomicFeatures)