| GeneRegionScan 1.9.7 Lasse Folkersen
 
 | Snapshot Date: 2011-07-06 19:21:50 -0700 (Wed, 06 Jul 2011) |  | URL: https://hedgehog.fhcrc.org/bioconductor/trunk/madman/Rpacks/GeneRegionScan |  | Last Changed Rev: 56324 / Revision: 56603 |  | Last Changed Date: 2011-06-20 05:50:23 -0700 (Mon, 20 Jun 2011) | 
 | wilson2 | Linux (openSUSE 11.4) / x86_64 | OK | OK |  | 
| liverpool | Windows Server 2003 R2 (32-bit) / x64 | OK | OK | OK | 
| gewurz | Windows Server 2008 R2 Enterprise (64-bit) / x64 | OK | OK | [ OK ] | 
| moscato1 | Windows Server 2008 R2 Enterprise (64-bit) / x64 | OK | OK | OK | 
| pitt | Mac OS X Leopard (10.5.8) / i386 | OK | OK | OK | 
* installing *source* package 'GeneRegionScan' ...
** R
** data
** exec
** inst
** preparing package for lazy loading
Welcome to Bioconductor
  Vignettes contain introductory material. To view, type
  'browseVignettes()'. To cite Bioconductor, see
  'citation("Biobase")' and for packages 'citation("pkgname")'.
Loading required package: IRanges
Attaching package: 'IRanges'
The following object(s) are masked from 'package:Biobase':
    updateObject
The following object(s) are masked from 'package:base':
    Map, cbind, eval, intersect, mapply, order, paste, pmax, pmax.int,
    pmin, pmin.int, rbind, rep.int, setdiff, table, union
** help
*** installing help indices
** building package indices ...
*** tangling vignette sources ...
   'GeneRegionScan.Rnw' 
** testing if installed package can be loaded
* MD5 sums
packaged installation of 'GeneRegionScan' as GeneRegionScan_1.9.7.zip
* DONE (GeneRegionScan)