GRENITS 1.4.1 Edward Morrissey
Snapshot Date: 2011-07-06 19:21:50 -0700 (Wed, 06 Jul 2011) | URL: https://hedgehog.fhcrc.org/bioconductor/trunk/madman/Rpacks/GRENITS | Last Changed Rev: 56559 / Revision: 56603 | Last Changed Date: 2011-07-05 10:02:03 -0700 (Tue, 05 Jul 2011) |
| wilson2 | Linux (openSUSE 11.4) / x86_64 | OK | OK | |
liverpool | Windows Server 2003 R2 (32-bit) / x64 | OK | OK | OK |
gewurz | Windows Server 2008 R2 Enterprise (64-bit) / x64 | OK | OK | OK |
moscato1 | Windows Server 2008 R2 Enterprise (64-bit) / x64 | OK | OK | OK |
pitt | Mac OS X Leopard (10.5.8) / i386 | OK | OK | [ OK ] |
>>>>>>>
>>>>>>> INSTALLATION WITH 'R CMD INSTALL --preclean --library=GRENITS.buildbin-libdir GRENITS_1.4.1.tar.gz'
>>>>>>>
* installing *source* package 'GRENITS' ...
** libs
*** arch - i386
g++-4.2 -arch i386 -I/Library/Frameworks/R.framework/Resources/include -I/Library/Frameworks/R.framework/Resources/include/i386 -I/usr/local/include -I"/Library/Frameworks/R.framework/Versions/2.14/Resources/library/Rcpp/include" -I"/Library/Frameworks/R.framework/Versions/2.14/Resources/library/RcppArmadillo/include" -fPIC -g -O2 -Wall -fasm-blocks -c AR1_Gauss_biocond.cc -o AR1_Gauss_biocond.o
g++-4.2 -arch i386 -I/Library/Frameworks/R.framework/Resources/include -I/Library/Frameworks/R.framework/Resources/include/i386 -I/usr/local/include -I"/Library/Frameworks/R.framework/Versions/2.14/Resources/library/Rcpp/include" -I"/Library/Frameworks/R.framework/Versions/2.14/Resources/library/RcppArmadillo/include" -fPIC -g -O2 -Wall -fasm-blocks -c AR1_Student_biocond.cc -o AR1_Student_biocond.o
g++-4.2 -arch i386 -I/Library/Frameworks/R.framework/Resources/include -I/Library/Frameworks/R.framework/Resources/include/i386 -I/usr/local/include -I"/Library/Frameworks/R.framework/Versions/2.14/Resources/library/Rcpp/include" -I"/Library/Frameworks/R.framework/Versions/2.14/Resources/library/RcppArmadillo/include" -fPIC -g -O2 -Wall -fasm-blocks -c AR1_biocond.cc -o AR1_biocond.o
g++-4.2 -arch i386 -I/Library/Frameworks/R.framework/Resources/include -I/Library/Frameworks/R.framework/Resources/include/i386 -I/usr/local/include -I"/Library/Frameworks/R.framework/Versions/2.14/Resources/library/Rcpp/include" -I"/Library/Frameworks/R.framework/Versions/2.14/Resources/library/RcppArmadillo/include" -fPIC -g -O2 -Wall -fasm-blocks -c PSplines_biocond.cc -o PSplines_biocond.o
g++-4.2 -arch i386 -I/Library/Frameworks/R.framework/Resources/include -I/Library/Frameworks/R.framework/Resources/include/i386 -I/usr/local/include -I"/Library/Frameworks/R.framework/Versions/2.14/Resources/library/Rcpp/include" -I"/Library/Frameworks/R.framework/Versions/2.14/Resources/library/RcppArmadillo/include" -fPIC -g -O2 -Wall -fasm-blocks -c R_C_interface.cpp -o R_C_interface.o
g++-4.2 -arch i386 -I/Library/Frameworks/R.framework/Resources/include -I/Library/Frameworks/R.framework/Resources/include/i386 -I/usr/local/include -I"/Library/Frameworks/R.framework/Versions/2.14/Resources/library/Rcpp/include" -I"/Library/Frameworks/R.framework/Versions/2.14/Resources/library/RcppArmadillo/include" -fPIC -g -O2 -Wall -fasm-blocks -c commonFunctions.cc -o commonFunctions.o
commonFunctions.cc: In function 'void random_intSequence(arma::ucolvec&)':
commonFunctions.cc:219: warning: comparison between signed and unsigned integer expressions
g++-4.2 -arch i386 -I/Library/Frameworks/R.framework/Resources/include -I/Library/Frameworks/R.framework/Resources/include/i386 -I/usr/local/include -I"/Library/Frameworks/R.framework/Versions/2.14/Resources/library/Rcpp/include" -I"/Library/Frameworks/R.framework/Versions/2.14/Resources/library/RcppArmadillo/include" -fPIC -g -O2 -Wall -fasm-blocks -c functionsErrorModel.cc -o functionsErrorModel.o
g++-4.2 -arch i386 -I/Library/Frameworks/R.framework/Resources/include -I/Library/Frameworks/R.framework/Resources/include/i386 -I/usr/local/include -I"/Library/Frameworks/R.framework/Versions/2.14/Resources/library/Rcpp/include" -I"/Library/Frameworks/R.framework/Versions/2.14/Resources/library/RcppArmadillo/include" -fPIC -g -O2 -Wall -fasm-blocks -c matrixManipulationFunctions.cc -o matrixManipulationFunctions.o
g++-4.2 -arch i386 -I/Library/Frameworks/R.framework/Resources/include -I/Library/Frameworks/R.framework/Resources/include/i386 -I/usr/local/include -I"/Library/Frameworks/R.framework/Versions/2.14/Resources/library/Rcpp/include" -I"/Library/Frameworks/R.framework/Versions/2.14/Resources/library/RcppArmadillo/include" -fPIC -g -O2 -Wall -fasm-blocks -c updateFunctions_AR1.cc -o updateFunctions_AR1.o
updateFunctions_AR1.cc: In function 'void updateCoeffAndGibbsVars(arma::mat&, arma::umat&, const arma::colvec&, const arma::mat&, const arma::mat&, const arma::mat&, const double&, const unsigned int&)':
updateFunctions_AR1.cc:123: warning: comparison between signed and unsigned integer expressions
updateFunctions_AR1.cc:129: warning: comparison between signed and unsigned integer expressions
updateFunctions_AR1.cc: In function 'void updateCoeffAndGibbsVars_reg(arma::mat&, arma::umat&, const arma::colvec&, const arma::mat&, const arma::mat&, const arma::mat&, const double&, const unsigned int&, const arma::umat&)':
updateFunctions_AR1.cc:174: warning: comparison between signed and unsigned integer expressions
g++-4.2 -arch i386 -I/Library/Frameworks/R.framework/Resources/include -I/Library/Frameworks/R.framework/Resources/include/i386 -I/usr/local/include -I"/Library/Frameworks/R.framework/Versions/2.14/Resources/library/Rcpp/include" -I"/Library/Frameworks/R.framework/Versions/2.14/Resources/library/RcppArmadillo/include" -fPIC -g -O2 -Wall -fasm-blocks -c updateFunctions_Splines.cc -o updateFunctions_Splines.o
g++-4.2 -arch i386 -dynamiclib -Wl,-headerpad_max_install_names -undefined dynamic_lookup -single_module -multiply_defined suppress -L/usr/local/lib -o GRENITS.so AR1_Gauss_biocond.o AR1_Student_biocond.o AR1_biocond.o PSplines_biocond.o R_C_interface.o commonFunctions.o functionsErrorModel.o matrixManipulationFunctions.o updateFunctions_AR1.o updateFunctions_Splines.o /Library/Frameworks/R.framework/Versions/2.14/Resources/library/Rcpp/lib/i386/libRcpp.a -L/Library/Frameworks/R.framework/Resources/lib/i386 -lRlapack -L/Library/Frameworks/R.framework/Resources/lib/i386 -lRblas -lgfortran -F/Library/Frameworks/R.framework/.. -framework R -Wl,-framework -Wl,CoreFoundation
installing to /Users/biocbuild/bbs-2.9-bioc/meat/GRENITS.buildbin-libdir/GRENITS/libs/i386
*** arch - ppc
g++-4.2 -arch ppc -I/Library/Frameworks/R.framework/Resources/include -I/Library/Frameworks/R.framework/Resources/include/ppc -I/usr/local/include -I"/Library/Frameworks/R.framework/Versions/2.14/Resources/library/Rcpp/include" -I"/Library/Frameworks/R.framework/Versions/2.14/Resources/library/RcppArmadillo/include" -fPIC -g -O2 -Wall -fasm-blocks -c AR1_Gauss_biocond.cc -o AR1_Gauss_biocond.o
g++-4.2 -arch ppc -I/Library/Frameworks/R.framework/Resources/include -I/Library/Frameworks/R.framework/Resources/include/ppc -I/usr/local/include -I"/Library/Frameworks/R.framework/Versions/2.14/Resources/library/Rcpp/include" -I"/Library/Frameworks/R.framework/Versions/2.14/Resources/library/RcppArmadillo/include" -fPIC -g -O2 -Wall -fasm-blocks -c AR1_Student_biocond.cc -o AR1_Student_biocond.o
g++-4.2 -arch ppc -I/Library/Frameworks/R.framework/Resources/include -I/Library/Frameworks/R.framework/Resources/include/ppc -I/usr/local/include -I"/Library/Frameworks/R.framework/Versions/2.14/Resources/library/Rcpp/include" -I"/Library/Frameworks/R.framework/Versions/2.14/Resources/library/RcppArmadillo/include" -fPIC -g -O2 -Wall -fasm-blocks -c AR1_biocond.cc -o AR1_biocond.o
g++-4.2 -arch ppc -I/Library/Frameworks/R.framework/Resources/include -I/Library/Frameworks/R.framework/Resources/include/ppc -I/usr/local/include -I"/Library/Frameworks/R.framework/Versions/2.14/Resources/library/Rcpp/include" -I"/Library/Frameworks/R.framework/Versions/2.14/Resources/library/RcppArmadillo/include" -fPIC -g -O2 -Wall -fasm-blocks -c PSplines_biocond.cc -o PSplines_biocond.o
g++-4.2 -arch ppc -I/Library/Frameworks/R.framework/Resources/include -I/Library/Frameworks/R.framework/Resources/include/ppc -I/usr/local/include -I"/Library/Frameworks/R.framework/Versions/2.14/Resources/library/Rcpp/include" -I"/Library/Frameworks/R.framework/Versions/2.14/Resources/library/RcppArmadillo/include" -fPIC -g -O2 -Wall -fasm-blocks -c R_C_interface.cpp -o R_C_interface.o
g++-4.2 -arch ppc -I/Library/Frameworks/R.framework/Resources/include -I/Library/Frameworks/R.framework/Resources/include/ppc -I/usr/local/include -I"/Library/Frameworks/R.framework/Versions/2.14/Resources/library/Rcpp/include" -I"/Library/Frameworks/R.framework/Versions/2.14/Resources/library/RcppArmadillo/include" -fPIC -g -O2 -Wall -fasm-blocks -c commonFunctions.cc -o commonFunctions.o
commonFunctions.cc: In function 'void random_intSequence(arma::ucolvec&)':
commonFunctions.cc:219: warning: comparison between signed and unsigned integer expressions
g++-4.2 -arch ppc -I/Library/Frameworks/R.framework/Resources/include -I/Library/Frameworks/R.framework/Resources/include/ppc -I/usr/local/include -I"/Library/Frameworks/R.framework/Versions/2.14/Resources/library/Rcpp/include" -I"/Library/Frameworks/R.framework/Versions/2.14/Resources/library/RcppArmadillo/include" -fPIC -g -O2 -Wall -fasm-blocks -c functionsErrorModel.cc -o functionsErrorModel.o
g++-4.2 -arch ppc -I/Library/Frameworks/R.framework/Resources/include -I/Library/Frameworks/R.framework/Resources/include/ppc -I/usr/local/include -I"/Library/Frameworks/R.framework/Versions/2.14/Resources/library/Rcpp/include" -I"/Library/Frameworks/R.framework/Versions/2.14/Resources/library/RcppArmadillo/include" -fPIC -g -O2 -Wall -fasm-blocks -c matrixManipulationFunctions.cc -o matrixManipulationFunctions.o
g++-4.2 -arch ppc -I/Library/Frameworks/R.framework/Resources/include -I/Library/Frameworks/R.framework/Resources/include/ppc -I/usr/local/include -I"/Library/Frameworks/R.framework/Versions/2.14/Resources/library/Rcpp/include" -I"/Library/Frameworks/R.framework/Versions/2.14/Resources/library/RcppArmadillo/include" -fPIC -g -O2 -Wall -fasm-blocks -c updateFunctions_AR1.cc -o updateFunctions_AR1.o
updateFunctions_AR1.cc: In function 'void updateCoeffAndGibbsVars(arma::mat&, arma::umat&, const arma::colvec&, const arma::mat&, const arma::mat&, const arma::mat&, const double&, const unsigned int&)':
updateFunctions_AR1.cc:123: warning: comparison between signed and unsigned integer expressions
updateFunctions_AR1.cc:129: warning: comparison between signed and unsigned integer expressions
updateFunctions_AR1.cc: In function 'void updateCoeffAndGibbsVars_reg(arma::mat&, arma::umat&, const arma::colvec&, const arma::mat&, const arma::mat&, const arma::mat&, const double&, const unsigned int&, const arma::umat&)':
updateFunctions_AR1.cc:174: warning: comparison between signed and unsigned integer expressions
g++-4.2 -arch ppc -I/Library/Frameworks/R.framework/Resources/include -I/Library/Frameworks/R.framework/Resources/include/ppc -I/usr/local/include -I"/Library/Frameworks/R.framework/Versions/2.14/Resources/library/Rcpp/include" -I"/Library/Frameworks/R.framework/Versions/2.14/Resources/library/RcppArmadillo/include" -fPIC -g -O2 -Wall -fasm-blocks -c updateFunctions_Splines.cc -o updateFunctions_Splines.o
g++-4.2 -arch ppc -dynamiclib -Wl,-headerpad_max_install_names -undefined dynamic_lookup -single_module -multiply_defined suppress -L/usr/local/lib -o GRENITS.so AR1_Gauss_biocond.o AR1_Student_biocond.o AR1_biocond.o PSplines_biocond.o R_C_interface.o commonFunctions.o functionsErrorModel.o matrixManipulationFunctions.o updateFunctions_AR1.o updateFunctions_Splines.o /Library/Frameworks/R.framework/Versions/2.14/Resources/library/Rcpp/lib/ppc/libRcpp.a -L/Library/Frameworks/R.framework/Resources/lib/ppc -lRlapack -L/Library/Frameworks/R.framework/Resources/lib/ppc -lRblas -lgfortran -lSystemStubs -F/Library/Frameworks/R.framework/.. -framework R -Wl,-framework -Wl,CoreFoundation
installing to /Users/biocbuild/bbs-2.9-bioc/meat/GRENITS.buildbin-libdir/GRENITS/libs/ppc
*** arch - x86_64
g++-4.2 -arch x86_64 -I/Library/Frameworks/R.framework/Resources/include -I/Library/Frameworks/R.framework/Resources/include/x86_64 -I/usr/local/include -I"/Library/Frameworks/R.framework/Versions/2.14/Resources/library/Rcpp/include" -I"/Library/Frameworks/R.framework/Versions/2.14/Resources/library/RcppArmadillo/include" -fPIC -g -O2 -Wall -fasm-blocks -c AR1_Gauss_biocond.cc -o AR1_Gauss_biocond.o
g++-4.2 -arch x86_64 -I/Library/Frameworks/R.framework/Resources/include -I/Library/Frameworks/R.framework/Resources/include/x86_64 -I/usr/local/include -I"/Library/Frameworks/R.framework/Versions/2.14/Resources/library/Rcpp/include" -I"/Library/Frameworks/R.framework/Versions/2.14/Resources/library/RcppArmadillo/include" -fPIC -g -O2 -Wall -fasm-blocks -c AR1_Student_biocond.cc -o AR1_Student_biocond.o
g++-4.2 -arch x86_64 -I/Library/Frameworks/R.framework/Resources/include -I/Library/Frameworks/R.framework/Resources/include/x86_64 -I/usr/local/include -I"/Library/Frameworks/R.framework/Versions/2.14/Resources/library/Rcpp/include" -I"/Library/Frameworks/R.framework/Versions/2.14/Resources/library/RcppArmadillo/include" -fPIC -g -O2 -Wall -fasm-blocks -c AR1_biocond.cc -o AR1_biocond.o
g++-4.2 -arch x86_64 -I/Library/Frameworks/R.framework/Resources/include -I/Library/Frameworks/R.framework/Resources/include/x86_64 -I/usr/local/include -I"/Library/Frameworks/R.framework/Versions/2.14/Resources/library/Rcpp/include" -I"/Library/Frameworks/R.framework/Versions/2.14/Resources/library/RcppArmadillo/include" -fPIC -g -O2 -Wall -fasm-blocks -c PSplines_biocond.cc -o PSplines_biocond.o
g++-4.2 -arch x86_64 -I/Library/Frameworks/R.framework/Resources/include -I/Library/Frameworks/R.framework/Resources/include/x86_64 -I/usr/local/include -I"/Library/Frameworks/R.framework/Versions/2.14/Resources/library/Rcpp/include" -I"/Library/Frameworks/R.framework/Versions/2.14/Resources/library/RcppArmadillo/include" -fPIC -g -O2 -Wall -fasm-blocks -c R_C_interface.cpp -o R_C_interface.o
g++-4.2 -arch x86_64 -I/Library/Frameworks/R.framework/Resources/include -I/Library/Frameworks/R.framework/Resources/include/x86_64 -I/usr/local/include -I"/Library/Frameworks/R.framework/Versions/2.14/Resources/library/Rcpp/include" -I"/Library/Frameworks/R.framework/Versions/2.14/Resources/library/RcppArmadillo/include" -fPIC -g -O2 -Wall -fasm-blocks -c commonFunctions.cc -o commonFunctions.o
commonFunctions.cc: In function 'void random_intSequence(arma::ucolvec&)':
commonFunctions.cc:219: warning: comparison between signed and unsigned integer expressions
g++-4.2 -arch x86_64 -I/Library/Frameworks/R.framework/Resources/include -I/Library/Frameworks/R.framework/Resources/include/x86_64 -I/usr/local/include -I"/Library/Frameworks/R.framework/Versions/2.14/Resources/library/Rcpp/include" -I"/Library/Frameworks/R.framework/Versions/2.14/Resources/library/RcppArmadillo/include" -fPIC -g -O2 -Wall -fasm-blocks -c functionsErrorModel.cc -o functionsErrorModel.o
g++-4.2 -arch x86_64 -I/Library/Frameworks/R.framework/Resources/include -I/Library/Frameworks/R.framework/Resources/include/x86_64 -I/usr/local/include -I"/Library/Frameworks/R.framework/Versions/2.14/Resources/library/Rcpp/include" -I"/Library/Frameworks/R.framework/Versions/2.14/Resources/library/RcppArmadillo/include" -fPIC -g -O2 -Wall -fasm-blocks -c matrixManipulationFunctions.cc -o matrixManipulationFunctions.o
g++-4.2 -arch x86_64 -I/Library/Frameworks/R.framework/Resources/include -I/Library/Frameworks/R.framework/Resources/include/x86_64 -I/usr/local/include -I"/Library/Frameworks/R.framework/Versions/2.14/Resources/library/Rcpp/include" -I"/Library/Frameworks/R.framework/Versions/2.14/Resources/library/RcppArmadillo/include" -fPIC -g -O2 -Wall -fasm-blocks -c updateFunctions_AR1.cc -o updateFunctions_AR1.o
updateFunctions_AR1.cc: In function 'void updateCoeffAndGibbsVars(arma::mat&, arma::umat&, const arma::colvec&, const arma::mat&, const arma::mat&, const arma::mat&, const double&, const unsigned int&)':
updateFunctions_AR1.cc:123: warning: comparison between signed and unsigned integer expressions
updateFunctions_AR1.cc:129: warning: comparison between signed and unsigned integer expressions
updateFunctions_AR1.cc: In function 'void updateCoeffAndGibbsVars_reg(arma::mat&, arma::umat&, const arma::colvec&, const arma::mat&, const arma::mat&, const arma::mat&, const double&, const unsigned int&, const arma::umat&)':
updateFunctions_AR1.cc:174: warning: comparison between signed and unsigned integer expressions
g++-4.2 -arch x86_64 -I/Library/Frameworks/R.framework/Resources/include -I/Library/Frameworks/R.framework/Resources/include/x86_64 -I/usr/local/include -I"/Library/Frameworks/R.framework/Versions/2.14/Resources/library/Rcpp/include" -I"/Library/Frameworks/R.framework/Versions/2.14/Resources/library/RcppArmadillo/include" -fPIC -g -O2 -Wall -fasm-blocks -c updateFunctions_Splines.cc -o updateFunctions_Splines.o
g++-4.2 -arch x86_64 -dynamiclib -Wl,-headerpad_max_install_names -undefined dynamic_lookup -single_module -multiply_defined suppress -L/usr/local/lib -o GRENITS.so AR1_Gauss_biocond.o AR1_Student_biocond.o AR1_biocond.o PSplines_biocond.o R_C_interface.o commonFunctions.o functionsErrorModel.o matrixManipulationFunctions.o updateFunctions_AR1.o updateFunctions_Splines.o /Library/Frameworks/R.framework/Versions/2.14/Resources/library/Rcpp/lib/x86_64/libRcpp.a -L/Library/Frameworks/R.framework/Resources/lib/x86_64 -lRlapack -L/Library/Frameworks/R.framework/Resources/lib/x86_64 -lRblas -lgfortran -F/Library/Frameworks/R.framework/.. -framework R -Wl,-framework -Wl,CoreFoundation
installing to /Users/biocbuild/bbs-2.9-bioc/meat/GRENITS.buildbin-libdir/GRENITS/libs/x86_64
** R
** data
** inst
** preparing package for lazy loading
Loading required package: reshape
Loading required package: plyr
Attaching package: 'reshape'
The following object(s) are masked from 'package:plyr':
rename, round_any
Loading required package: grid
Loading required package: proto
** help
*** installing help indices
** building package indices ...
*** tangling vignette sources ...
'GRENITS_package.Rnw'
** testing if installed package can be loaded
* DONE (GRENITS)
>>>>>>>
>>>>>>> FIXING LINKS FOR GRENITS.buildbin-libdir/GRENITS/libs/i386/GRENITS.so
>>>>>>>
install_name_tool -change "/usr/local/lib/libgcc_s.1.dylib" "/Library/Frameworks/R.framework/Versions/2.14/Resources/lib/libgcc_s.1.dylib" "GRENITS.buildbin-libdir/GRENITS/libs/i386/GRENITS.so"
install_name_tool -change "/usr/local/lib/libgfortran.2.dylib" "/Library/Frameworks/R.framework/Versions/2.14/Resources/lib/libgfortran.2.dylib" "GRENITS.buildbin-libdir/GRENITS/libs/i386/GRENITS.so"
install_name_tool -change "/usr/local/lib/libreadline.5.2.dylib" "/Library/Frameworks/R.framework/Versions/2.14/Resources/lib/libreadline.5.2.dylib" "GRENITS.buildbin-libdir/GRENITS/libs/i386/GRENITS.so"
install_name_tool -change "/usr/local/lib/libreadline.dylib" "/Library/Frameworks/R.framework/Versions/2.14/Resources/lib/libreadline.dylib" "GRENITS.buildbin-libdir/GRENITS/libs/i386/GRENITS.so"
>>>>>>>
>>>>>>> FIXING LINKS FOR GRENITS.buildbin-libdir/GRENITS/libs/ppc/GRENITS.so
>>>>>>>
install_name_tool -change "/usr/local/lib/libgcc_s.1.dylib" "/Library/Frameworks/R.framework/Versions/2.14/Resources/lib/libgcc_s.1.dylib" "GRENITS.buildbin-libdir/GRENITS/libs/ppc/GRENITS.so"
install_name_tool -change "/usr/local/lib/libgfortran.2.dylib" "/Library/Frameworks/R.framework/Versions/2.14/Resources/lib/libgfortran.2.dylib" "GRENITS.buildbin-libdir/GRENITS/libs/ppc/GRENITS.so"
install_name_tool -change "/usr/local/lib/libreadline.5.2.dylib" "/Library/Frameworks/R.framework/Versions/2.14/Resources/lib/libreadline.5.2.dylib" "GRENITS.buildbin-libdir/GRENITS/libs/ppc/GRENITS.so"
install_name_tool -change "/usr/local/lib/libreadline.dylib" "/Library/Frameworks/R.framework/Versions/2.14/Resources/lib/libreadline.dylib" "GRENITS.buildbin-libdir/GRENITS/libs/ppc/GRENITS.so"
>>>>>>>
>>>>>>> FIXING LINKS FOR GRENITS.buildbin-libdir/GRENITS/libs/x86_64/GRENITS.so
>>>>>>>
install_name_tool -change "/usr/local/lib/libgcc_s.1.dylib" "/Library/Frameworks/R.framework/Versions/2.14/Resources/lib/libgcc_s.1.dylib" "GRENITS.buildbin-libdir/GRENITS/libs/x86_64/GRENITS.so"
install_name_tool -change "/usr/local/lib/libgfortran.2.dylib" "/Library/Frameworks/R.framework/Versions/2.14/Resources/lib/libgfortran.2.dylib" "GRENITS.buildbin-libdir/GRENITS/libs/x86_64/GRENITS.so"
install_name_tool -change "/usr/local/lib/libreadline.5.2.dylib" "/Library/Frameworks/R.framework/Versions/2.14/Resources/lib/libreadline.5.2.dylib" "GRENITS.buildbin-libdir/GRENITS/libs/x86_64/GRENITS.so"
install_name_tool -change "/usr/local/lib/libreadline.dylib" "/Library/Frameworks/R.framework/Versions/2.14/Resources/lib/libreadline.dylib" "GRENITS.buildbin-libdir/GRENITS/libs/x86_64/GRENITS.so"