| Back to the "Multiple platform build/check report" | A [B] C D E F G H I J K L M N O P Q R S T U V W X Y Z | 
| Package 61/479 | Hostname | OS / Arch | BUILD | CHECK | BUILD BIN | ||||
| BiocInstaller 1.1.12 Biocore Team c/o BioC user list 
 | wilson2 | Linux (openSUSE 11.4) / x86_64 | OK | OK | |||||
| liverpool | Windows Server 2003 R2 (32-bit) / x64 | OK | OK | OK | |||||
| gewurz | Windows Server 2008 R2 Enterprise (64-bit) / x64 | [ OK ] | OK | OK | |||||
| moscato1 | Windows Server 2008 R2 Enterprise (64-bit) / x64 | OK | OK | OK | |||||
| pitt | Mac OS X Leopard (10.5.8) / i386 | OK | OK | OK | 
| Package: BiocInstaller | 
| Version: 1.1.12 | 
| Command: chmod a+r BiocInstaller -R && D:\biocbld\bbs-2.9-bioc\R\bin\R.exe CMD build --keep-empty-dirs --no-resave-data BiocInstaller | 
| StartedAt: 2011-07-07 01:11:08 -0700 (Thu, 07 Jul 2011) | 
| EndedAt: 2011-07-07 01:11:10 -0700 (Thu, 07 Jul 2011) | 
| EllapsedTime: 1.7 seconds | 
| RetCode: 0 | 
| Status: OK | 
| PackageFile: BiocInstaller_1.1.12.tar.gz | 
| PackageFileSize: 5.157 KiB | 
* checking for file 'BiocInstaller/DESCRIPTION' ... OK * preparing 'BiocInstaller': * checking DESCRIPTION meta-information ... OK * checking for LF line-endings in source and make files * checking for empty or unneeded directories * building 'BiocInstaller_1.1.12.tar.gz'