BioSeqClass 1.11.0 Li Hong
Snapshot Date: 2011-06-08 19:20:12 -0700 (Wed, 08 Jun 2011) | URL: https://hedgehog.fhcrc.org/bioconductor/trunk/madman/Rpacks/BioSeqClass | Last Changed Rev: 54802 / Revision: 56072 | Last Changed Date: 2011-04-13 15:36:43 -0700 (Wed, 13 Apr 2011) |
| wilson2 | Linux (openSUSE 11.4) / x86_64 | OK | OK | |
liverpool | Windows Server 2003 R2 (32-bit) / x64 | OK | OK | OK |
gewurz | Windows Server 2008 R2 Enterprise (64-bit) / x64 | OK | OK | OK |
moscato1 | Windows Server 2008 R2 Enterprise (64-bit) / x64 | ERROR | skipped | skipped |
pelham | Mac OS X Leopard (10.5.8) / i386 | OK | OK | [ OK ] |
>>>>>>>
>>>>>>> INSTALLATION WITH 'R CMD INSTALL --preclean --library=BioSeqClass.buildbin-libdir BioSeqClass_1.11.0.tar.gz'
>>>>>>>
* installing *source* package ‘BioSeqClass’ ...
** R
** data
** inst
** preparing package for lazy loading
Loading required package: rpart
Loading required package: MASS
Loading required package: mlbench
Loading required package: survival
Loading required package: splines
Loading required package: class
Loading required package: nnet
Loading required package: mvtnorm
Loading required package: modeltools
Loading required package: stats4
** help
*** installing help indices
** building package indices ...
*** tangling vignette sources ...
‘BioSeqClass.Rnw’
** testing if installed package can be loaded
* DONE (BioSeqClass)