| ACME 2.9.1 Sean Davis
 
 | Snapshot Date: 2011-07-06 19:21:50 -0700 (Wed, 06 Jul 2011) |  | URL: https://hedgehog.fhcrc.org/bioconductor/trunk/madman/Rpacks/ACME |  | Last Changed Rev: 56198 / Revision: 56603 |  | Last Changed Date: 2011-06-15 03:36:07 -0700 (Wed, 15 Jun 2011) | 
 | wilson2 | Linux (openSUSE 11.4) / x86_64 | OK | OK |  | 
| liverpool | Windows Server 2003 R2 (32-bit) / x64 | OK | OK | OK | 
| gewurz | Windows Server 2008 R2 Enterprise (64-bit) / x64 | OK | OK | OK | 
| moscato1 | Windows Server 2008 R2 Enterprise (64-bit) / x64 | OK | OK | OK | 
| pitt | Mac OS X Leopard (10.5.8) / i386 | [ OK ] | OK | OK | 
* checking for file 'ACME/DESCRIPTION' ... OK
* preparing 'ACME':
* checking DESCRIPTION meta-information ... OK
* cleaning src
* installing the package to re-build vignettes
* creating vignettes ... OK
* cleaning src
* checking for LF line-endings in source and make files
* checking for empty or unneeded directories
* looking to see if a 'data/datalist' file should be added
* building 'ACME_2.9.1.tar.gz'