| sigPathway 1.21.0 Weil Lai
 
 | Snapshot Date: 2011-05-09 07:20:56 -0700 (Mon, 09 May 2011) |  | URL: https://hedgehog.fhcrc.org/bioconductor/trunk/madman/Rpacks/sigPathway |  | Last Changed Rev: 54810 / Revision: 55359 |  | Last Changed Date: 2011-04-13 18:14:51 -0700 (Wed, 13 Apr 2011) | 
 | wilson2 | Linux (openSUSE 11.4) / x86_64 | OK | OK |  | 
| liverpool | Windows Server 2003 R2 (32-bit) / x64 | OK | OK | OK | 
| gewurz | Windows Server 2008 R2 Enterprise (64-bit) / x64 | OK | OK | OK | 
| pelham | Mac OS X Leopard (10.5.8) / i386 | OK | OK | [ OK ] | 
>>>>>>> 
>>>>>>> INSTALLATION WITH 'R CMD INSTALL --preclean --library=sigPathway.buildbin-libdir sigPathway_1.21.0.tar.gz'
>>>>>>> 
* installing *source* package ‘sigPathway’ ...
** libs
*** arch - i386
gcc-4.2 -arch i386 -std=gnu99 -I/Library/Frameworks/R.framework/Versions/2.14/Resources/include -I/Library/Frameworks/R.framework/Versions/2.14/Resources/include/i386  -I/usr/local/include    -fPIC  -g -O2 -c calc_gene_set_internal.c -o calc_gene_set_internal.o
gcc-4.2 -arch i386 -std=gnu99 -I/Library/Frameworks/R.framework/Versions/2.14/Resources/include -I/Library/Frameworks/R.framework/Versions/2.14/Resources/include/i386  -I/usr/local/include    -fPIC  -g -O2 -c calc_gene_set_stat.c -o calc_gene_set_stat.o
gcc-4.2 -arch i386 -std=gnu99 -I/Library/Frameworks/R.framework/Versions/2.14/Resources/include -I/Library/Frameworks/R.framework/Versions/2.14/Resources/include/i386  -I/usr/local/include    -fPIC  -g -O2 -c calc_probe_stat.c -o calc_probe_stat.o
gcc-4.2 -arch i386 -std=gnu99 -I/Library/Frameworks/R.framework/Versions/2.14/Resources/include -I/Library/Frameworks/R.framework/Versions/2.14/Resources/include/i386  -I/usr/local/include    -fPIC  -g -O2 -c calc_weights.c -o calc_weights.o
gcc-4.2 -arch i386 -std=gnu99 -I/Library/Frameworks/R.framework/Versions/2.14/Resources/include -I/Library/Frameworks/R.framework/Versions/2.14/Resources/include/i386  -I/usr/local/include    -fPIC  -g -O2 -c matrix_fn.c -o matrix_fn.o
gcc-4.2 -arch i386 -std=gnu99 -I/Library/Frameworks/R.framework/Versions/2.14/Resources/include -I/Library/Frameworks/R.framework/Versions/2.14/Resources/include/i386  -I/usr/local/include    -fPIC  -g -O2 -c permute.c -o permute.o
gcc-4.2 -arch i386 -std=gnu99 -I/Library/Frameworks/R.framework/Versions/2.14/Resources/include -I/Library/Frameworks/R.framework/Versions/2.14/Resources/include/i386  -I/usr/local/include    -fPIC  -g -O2 -c shuffle.c -o shuffle.o
gcc-4.2 -arch i386 -std=gnu99 -I/Library/Frameworks/R.framework/Versions/2.14/Resources/include -I/Library/Frameworks/R.framework/Versions/2.14/Resources/include/i386  -I/usr/local/include    -fPIC  -g -O2 -c sigPathway.c -o sigPathway.o
gcc-4.2 -arch i386 -std=gnu99 -dynamiclib -Wl,-headerpad_max_install_names -undefined dynamic_lookup -single_module -multiply_defined suppress -L/usr/local/lib -o sigPathway.so calc_gene_set_internal.o calc_gene_set_stat.o calc_probe_stat.o calc_weights.o matrix_fn.o permute.o shuffle.o sigPathway.o -L/Library/Frameworks/R.framework/Versions/2.14/Resources/lib/i386 -lRlapack -L/Library/Frameworks/R.framework/Versions/2.14/Resources/lib/i386 -lRblas -lgfortran -F/Library/Frameworks/R.framework/.. -framework R -Wl,-framework -Wl,CoreFoundation
installing to /Users/biocbuild/bbs-2.9-bioc/meat/sigPathway.buildbin-libdir/sigPathway/libs/i386
*** arch - ppc
gcc-4.2 -arch ppc -std=gnu99 -I/Library/Frameworks/R.framework/Versions/2.14/Resources/include -I/Library/Frameworks/R.framework/Versions/2.14/Resources/include/ppc  -I/usr/local/include    -fPIC  -g -O2 -c calc_gene_set_internal.c -o calc_gene_set_internal.o
gcc-4.2 -arch ppc -std=gnu99 -I/Library/Frameworks/R.framework/Versions/2.14/Resources/include -I/Library/Frameworks/R.framework/Versions/2.14/Resources/include/ppc  -I/usr/local/include    -fPIC  -g -O2 -c calc_gene_set_stat.c -o calc_gene_set_stat.o
gcc-4.2 -arch ppc -std=gnu99 -I/Library/Frameworks/R.framework/Versions/2.14/Resources/include -I/Library/Frameworks/R.framework/Versions/2.14/Resources/include/ppc  -I/usr/local/include    -fPIC  -g -O2 -c calc_probe_stat.c -o calc_probe_stat.o
gcc-4.2 -arch ppc -std=gnu99 -I/Library/Frameworks/R.framework/Versions/2.14/Resources/include -I/Library/Frameworks/R.framework/Versions/2.14/Resources/include/ppc  -I/usr/local/include    -fPIC  -g -O2 -c calc_weights.c -o calc_weights.o
gcc-4.2 -arch ppc -std=gnu99 -I/Library/Frameworks/R.framework/Versions/2.14/Resources/include -I/Library/Frameworks/R.framework/Versions/2.14/Resources/include/ppc  -I/usr/local/include    -fPIC  -g -O2 -c matrix_fn.c -o matrix_fn.o
gcc-4.2 -arch ppc -std=gnu99 -I/Library/Frameworks/R.framework/Versions/2.14/Resources/include -I/Library/Frameworks/R.framework/Versions/2.14/Resources/include/ppc  -I/usr/local/include    -fPIC  -g -O2 -c permute.c -o permute.o
gcc-4.2 -arch ppc -std=gnu99 -I/Library/Frameworks/R.framework/Versions/2.14/Resources/include -I/Library/Frameworks/R.framework/Versions/2.14/Resources/include/ppc  -I/usr/local/include    -fPIC  -g -O2 -c shuffle.c -o shuffle.o
gcc-4.2 -arch ppc -std=gnu99 -I/Library/Frameworks/R.framework/Versions/2.14/Resources/include -I/Library/Frameworks/R.framework/Versions/2.14/Resources/include/ppc  -I/usr/local/include    -fPIC  -g -O2 -c sigPathway.c -o sigPathway.o
gcc-4.2 -arch ppc -std=gnu99 -dynamiclib -Wl,-headerpad_max_install_names -undefined dynamic_lookup -single_module -multiply_defined suppress -L/usr/local/lib -o sigPathway.so calc_gene_set_internal.o calc_gene_set_stat.o calc_probe_stat.o calc_weights.o matrix_fn.o permute.o shuffle.o sigPathway.o -L/Library/Frameworks/R.framework/Versions/2.14/Resources/lib/ppc -lRlapack -L/Library/Frameworks/R.framework/Versions/2.14/Resources/lib/ppc -lRblas -lgfortran -lSystemStubs -F/Library/Frameworks/R.framework/.. -framework R -Wl,-framework -Wl,CoreFoundation
installing to /Users/biocbuild/bbs-2.9-bioc/meat/sigPathway.buildbin-libdir/sigPathway/libs/ppc
*** arch - x86_64
gcc-4.2 -arch x86_64 -std=gnu99 -I/Library/Frameworks/R.framework/Versions/2.14/Resources/include -I/Library/Frameworks/R.framework/Versions/2.14/Resources/include/x86_64  -I/usr/local/include    -fPIC  -g -O2 -c calc_gene_set_internal.c -o calc_gene_set_internal.o
gcc-4.2 -arch x86_64 -std=gnu99 -I/Library/Frameworks/R.framework/Versions/2.14/Resources/include -I/Library/Frameworks/R.framework/Versions/2.14/Resources/include/x86_64  -I/usr/local/include    -fPIC  -g -O2 -c calc_gene_set_stat.c -o calc_gene_set_stat.o
gcc-4.2 -arch x86_64 -std=gnu99 -I/Library/Frameworks/R.framework/Versions/2.14/Resources/include -I/Library/Frameworks/R.framework/Versions/2.14/Resources/include/x86_64  -I/usr/local/include    -fPIC  -g -O2 -c calc_probe_stat.c -o calc_probe_stat.o
gcc-4.2 -arch x86_64 -std=gnu99 -I/Library/Frameworks/R.framework/Versions/2.14/Resources/include -I/Library/Frameworks/R.framework/Versions/2.14/Resources/include/x86_64  -I/usr/local/include    -fPIC  -g -O2 -c calc_weights.c -o calc_weights.o
gcc-4.2 -arch x86_64 -std=gnu99 -I/Library/Frameworks/R.framework/Versions/2.14/Resources/include -I/Library/Frameworks/R.framework/Versions/2.14/Resources/include/x86_64  -I/usr/local/include    -fPIC  -g -O2 -c matrix_fn.c -o matrix_fn.o
gcc-4.2 -arch x86_64 -std=gnu99 -I/Library/Frameworks/R.framework/Versions/2.14/Resources/include -I/Library/Frameworks/R.framework/Versions/2.14/Resources/include/x86_64  -I/usr/local/include    -fPIC  -g -O2 -c permute.c -o permute.o
gcc-4.2 -arch x86_64 -std=gnu99 -I/Library/Frameworks/R.framework/Versions/2.14/Resources/include -I/Library/Frameworks/R.framework/Versions/2.14/Resources/include/x86_64  -I/usr/local/include    -fPIC  -g -O2 -c shuffle.c -o shuffle.o
gcc-4.2 -arch x86_64 -std=gnu99 -I/Library/Frameworks/R.framework/Versions/2.14/Resources/include -I/Library/Frameworks/R.framework/Versions/2.14/Resources/include/x86_64  -I/usr/local/include    -fPIC  -g -O2 -c sigPathway.c -o sigPathway.o
gcc-4.2 -arch x86_64 -std=gnu99 -dynamiclib -Wl,-headerpad_max_install_names -undefined dynamic_lookup -single_module -multiply_defined suppress -L/usr/local/lib -o sigPathway.so calc_gene_set_internal.o calc_gene_set_stat.o calc_probe_stat.o calc_weights.o matrix_fn.o permute.o shuffle.o sigPathway.o -L/Library/Frameworks/R.framework/Versions/2.14/Resources/lib/x86_64 -lRlapack -L/Library/Frameworks/R.framework/Versions/2.14/Resources/lib/x86_64 -lRblas -lgfortran -F/Library/Frameworks/R.framework/.. -framework R -Wl,-framework -Wl,CoreFoundation
installing to /Users/biocbuild/bbs-2.9-bioc/meat/sigPathway.buildbin-libdir/sigPathway/libs/x86_64
** R
** data
** inst
** preparing package for lazy loading
** help
*** installing help indices
** building package indices ...
*** tangling vignette sources ...
   ‘sigPathway-vignette.Rnw’ 
** testing if installed package can be loaded
* DONE (sigPathway)
>>>>>>> 
>>>>>>> FIXING LINKS FOR sigPathway.buildbin-libdir/sigPathway/libs/i386/sigPathway.so
>>>>>>> 
install_name_tool -change "/usr/local/lib/libgcc_s.1.dylib" "/Library/Frameworks/R.framework/Versions/2.14/Resources/lib/libgcc_s.1.dylib" "sigPathway.buildbin-libdir/sigPathway/libs/i386/sigPathway.so"
install_name_tool -change "/usr/local/lib/libgfortran.2.dylib" "/Library/Frameworks/R.framework/Versions/2.14/Resources/lib/libgfortran.2.dylib" "sigPathway.buildbin-libdir/sigPathway/libs/i386/sigPathway.so"
install_name_tool -change "/usr/local/lib/libreadline.5.2.dylib" "/Library/Frameworks/R.framework/Versions/2.14/Resources/lib/libreadline.5.2.dylib" "sigPathway.buildbin-libdir/sigPathway/libs/i386/sigPathway.so"
install_name_tool -change "/usr/local/lib/libreadline.dylib" "/Library/Frameworks/R.framework/Versions/2.14/Resources/lib/libreadline.dylib" "sigPathway.buildbin-libdir/sigPathway/libs/i386/sigPathway.so"
>>>>>>> 
>>>>>>> FIXING LINKS FOR sigPathway.buildbin-libdir/sigPathway/libs/ppc/sigPathway.so
>>>>>>> 
install_name_tool -change "/usr/local/lib/libgcc_s.1.dylib" "/Library/Frameworks/R.framework/Versions/2.14/Resources/lib/libgcc_s.1.dylib" "sigPathway.buildbin-libdir/sigPathway/libs/ppc/sigPathway.so"
install_name_tool -change "/usr/local/lib/libgfortran.2.dylib" "/Library/Frameworks/R.framework/Versions/2.14/Resources/lib/libgfortran.2.dylib" "sigPathway.buildbin-libdir/sigPathway/libs/ppc/sigPathway.so"
install_name_tool -change "/usr/local/lib/libreadline.5.2.dylib" "/Library/Frameworks/R.framework/Versions/2.14/Resources/lib/libreadline.5.2.dylib" "sigPathway.buildbin-libdir/sigPathway/libs/ppc/sigPathway.so"
install_name_tool -change "/usr/local/lib/libreadline.dylib" "/Library/Frameworks/R.framework/Versions/2.14/Resources/lib/libreadline.dylib" "sigPathway.buildbin-libdir/sigPathway/libs/ppc/sigPathway.so"
>>>>>>> 
>>>>>>> FIXING LINKS FOR sigPathway.buildbin-libdir/sigPathway/libs/x86_64/sigPathway.so
>>>>>>> 
install_name_tool -change "/usr/local/lib/libgcc_s.1.dylib" "/Library/Frameworks/R.framework/Versions/2.14/Resources/lib/libgcc_s.1.dylib" "sigPathway.buildbin-libdir/sigPathway/libs/x86_64/sigPathway.so"
install_name_tool -change "/usr/local/lib/libgfortran.2.dylib" "/Library/Frameworks/R.framework/Versions/2.14/Resources/lib/libgfortran.2.dylib" "sigPathway.buildbin-libdir/sigPathway/libs/x86_64/sigPathway.so"
install_name_tool -change "/usr/local/lib/libreadline.5.2.dylib" "/Library/Frameworks/R.framework/Versions/2.14/Resources/lib/libreadline.5.2.dylib" "sigPathway.buildbin-libdir/sigPathway/libs/x86_64/sigPathway.so"
install_name_tool -change "/usr/local/lib/libreadline.dylib" "/Library/Frameworks/R.framework/Versions/2.14/Resources/lib/libreadline.dylib" "sigPathway.buildbin-libdir/sigPathway/libs/x86_64/sigPathway.so"