rnaSeqMap 2.7.7 Michal Okoniewski
 | Snapshot Date: 2011-05-09 07:20:56 -0700 (Mon, 09 May 2011) |  | URL: https://hedgehog.fhcrc.org/bioconductor/trunk/madman/Rpacks/rnaSeqMap |  | Last Changed Rev: 55084 / Revision: 55359 |  | Last Changed Date: 2011-04-26 06:14:33 -0700 (Tue, 26 Apr 2011) |  
  | wilson2  | Linux (openSUSE 11.4) / x86_64  |  OK  |  OK  |  | 
| liverpool  | Windows Server 2003 R2 (32-bit) / x64  |  OK  |  OK  | [ OK ] | 
| gewurz  | Windows Server 2008 R2 Enterprise (64-bit) / x64  |  OK  |  OK  |  OK  | 
| pelham  | Mac OS X Leopard (10.5.8) / i386  |  OK  |  OK  |  OK  | 
* installing *source* package 'rnaSeqMap' ...
** libs
gcc  -I"E:/biocbld/bbs-2.9-bioc/R/include"          -O3 -Wall  -std=gnu99 -c Rinit.c -o Rinit.o
gcc  -I"E:/biocbld/bbs-2.9-bioc/R/include"          -O3 -Wall  -std=gnu99 -c gcoverage.c -o gcoverage.o
gcc  -I"E:/biocbld/bbs-2.9-bioc/R/include"          -O3 -Wall  -std=gnu99 -c ghistogram.c -o ghistogram.o
ghistogram.c: In function 'ghistogram':
ghistogram.c:31:11: warning: operation on 'k' may be undefined
gcc  -I"E:/biocbld/bbs-2.9-bioc/R/include"          -O3 -Wall  -std=gnu99 -c regionmining.c -o regionmining.o
regionmining.c: In function 'avg':
regionmining.c:12:4: warning: operation on 'n' may be undefined
gcc  -I"E:/biocbld/bbs-2.9-bioc/R/include"          -O3 -Wall  -std=gnu99 -c splicingind.c -o splicingind.o
gcc -shared -s -static-libgcc -o rnaSeqMap.dll tmp.def Rinit.o gcoverage.o ghistogram.o regionmining.o splicingind.o -LE:/biocbld/bbs-2.9-bioc/R/bin/i386 -lR
installing to E:/biocbld/bbs-2.9-bioc/meat/rnaSeqMap.buildbin-libdir/rnaSeqMap/libs/i386
** R
** data
** inst
** preparing package for lazy loading
Loading required package: IRanges
Attaching package: 'IRanges'
The following object(s) are masked from 'package:base':
    Map, cbind, eval, intersect, mapply, order, paste, pmax, pmax.int,
    pmin, pmin.int, rbind, rep.int, setdiff, table, union
Welcome to Bioconductor
  Vignettes contain introductory material. To view, type
  'browseVignettes()'. To cite Bioconductor, see
  'citation("Biobase")' and for packages 'citation("pkgname")'.
Attaching package: 'Biobase'
The following object(s) are masked from 'package:IRanges':
    updateObject
Loading required package: GenomicRanges
Loading required package: Biostrings
** help
*** installing help indices
** building package indices ...
*** tangling vignette sources ...
   'rnaSeqMap.Rnw' 
** testing if installed package can be loaded
* MD5 sums
packaged installation of 'rnaSeqMap' as rnaSeqMap_2.7.7.zip
* DONE (rnaSeqMap)