| maanova 1.23.0 Keith Sheppard
 
 | Snapshot Date: 2011-05-09 07:20:56 -0700 (Mon, 09 May 2011) |  | URL: https://hedgehog.fhcrc.org/bioconductor/trunk/madman/Rpacks/maanova |  | Last Changed Rev: 54810 / Revision: 55359 |  | Last Changed Date: 2011-04-13 18:14:51 -0700 (Wed, 13 Apr 2011) | 
 | wilson2 | Linux (openSUSE 11.4) / x86_64 | OK | OK |  | 
| liverpool | Windows Server 2003 R2 (32-bit) / x64 | OK | OK | OK | 
| gewurz | Windows Server 2008 R2 Enterprise (64-bit) / x64 | OK | OK | OK | 
| pelham | Mac OS X Leopard (10.5.8) / i386 | OK | OK | [ OK ] | 
>>>>>>> 
>>>>>>> INSTALLATION WITH 'R CMD INSTALL --preclean --library=maanova.buildbin-libdir maanova_1.23.0.tar.gz'
>>>>>>> 
* installing *source* package ‘maanova’ ...
** libs
*** arch - i386
gcc-4.2 -arch i386 -std=gnu99 -I/Library/Frameworks/R.framework/Versions/2.14/Resources/include -I/Library/Frameworks/R.framework/Versions/2.14/Resources/include/i386  -I/usr/local/include    -fPIC  -g -O2 -c makeratio.c -o makeratio.o
gcc-4.2 -arch i386 -std=gnu99 -I/Library/Frameworks/R.framework/Versions/2.14/Resources/include -I/Library/Frameworks/R.framework/Versions/2.14/Resources/include/i386  -I/usr/local/include    -fPIC  -g -O2 -c masvd.c -o masvd.o
gcc-4.2 -arch i386 -std=gnu99 -I/Library/Frameworks/R.framework/Versions/2.14/Resources/include -I/Library/Frameworks/R.framework/Versions/2.14/Resources/include/i386  -I/usr/local/include    -fPIC  -g -O2 -c shift.c -o shift.o
gcc-4.2 -arch i386 -std=gnu99 -I/Library/Frameworks/R.framework/Versions/2.14/Resources/include -I/Library/Frameworks/R.framework/Versions/2.14/Resources/include/i386  -I/usr/local/include    -fPIC  -g -O2 -c util.c -o util.o
gcc-4.2 -arch i386 -std=gnu99 -dynamiclib -Wl,-headerpad_max_install_names -undefined dynamic_lookup -single_module -multiply_defined suppress -L/usr/local/lib -o maanova.so makeratio.o masvd.o shift.o util.o -L/Library/Frameworks/R.framework/Versions/2.14/Resources/lib/i386 -lRlapack -L/Library/Frameworks/R.framework/Versions/2.14/Resources/lib/i386 -lRblas -lgfortran -F/Library/Frameworks/R.framework/.. -framework R -Wl,-framework -Wl,CoreFoundation
installing to /Users/biocbuild/bbs-2.9-bioc/meat/maanova.buildbin-libdir/maanova/libs/i386
*** arch - ppc
gcc-4.2 -arch ppc -std=gnu99 -I/Library/Frameworks/R.framework/Versions/2.14/Resources/include -I/Library/Frameworks/R.framework/Versions/2.14/Resources/include/ppc  -I/usr/local/include    -fPIC  -g -O2 -c makeratio.c -o makeratio.o
gcc-4.2 -arch ppc -std=gnu99 -I/Library/Frameworks/R.framework/Versions/2.14/Resources/include -I/Library/Frameworks/R.framework/Versions/2.14/Resources/include/ppc  -I/usr/local/include    -fPIC  -g -O2 -c masvd.c -o masvd.o
gcc-4.2 -arch ppc -std=gnu99 -I/Library/Frameworks/R.framework/Versions/2.14/Resources/include -I/Library/Frameworks/R.framework/Versions/2.14/Resources/include/ppc  -I/usr/local/include    -fPIC  -g -O2 -c shift.c -o shift.o
gcc-4.2 -arch ppc -std=gnu99 -I/Library/Frameworks/R.framework/Versions/2.14/Resources/include -I/Library/Frameworks/R.framework/Versions/2.14/Resources/include/ppc  -I/usr/local/include    -fPIC  -g -O2 -c util.c -o util.o
gcc-4.2 -arch ppc -std=gnu99 -dynamiclib -Wl,-headerpad_max_install_names -undefined dynamic_lookup -single_module -multiply_defined suppress -L/usr/local/lib -o maanova.so makeratio.o masvd.o shift.o util.o -L/Library/Frameworks/R.framework/Versions/2.14/Resources/lib/ppc -lRlapack -L/Library/Frameworks/R.framework/Versions/2.14/Resources/lib/ppc -lRblas -lgfortran -lSystemStubs -F/Library/Frameworks/R.framework/.. -framework R -Wl,-framework -Wl,CoreFoundation
installing to /Users/biocbuild/bbs-2.9-bioc/meat/maanova.buildbin-libdir/maanova/libs/ppc
*** arch - x86_64
gcc-4.2 -arch x86_64 -std=gnu99 -I/Library/Frameworks/R.framework/Versions/2.14/Resources/include -I/Library/Frameworks/R.framework/Versions/2.14/Resources/include/x86_64  -I/usr/local/include    -fPIC  -g -O2 -c makeratio.c -o makeratio.o
gcc-4.2 -arch x86_64 -std=gnu99 -I/Library/Frameworks/R.framework/Versions/2.14/Resources/include -I/Library/Frameworks/R.framework/Versions/2.14/Resources/include/x86_64  -I/usr/local/include    -fPIC  -g -O2 -c masvd.c -o masvd.o
gcc-4.2 -arch x86_64 -std=gnu99 -I/Library/Frameworks/R.framework/Versions/2.14/Resources/include -I/Library/Frameworks/R.framework/Versions/2.14/Resources/include/x86_64  -I/usr/local/include    -fPIC  -g -O2 -c shift.c -o shift.o
gcc-4.2 -arch x86_64 -std=gnu99 -I/Library/Frameworks/R.framework/Versions/2.14/Resources/include -I/Library/Frameworks/R.framework/Versions/2.14/Resources/include/x86_64  -I/usr/local/include    -fPIC  -g -O2 -c util.c -o util.o
gcc-4.2 -arch x86_64 -std=gnu99 -dynamiclib -Wl,-headerpad_max_install_names -undefined dynamic_lookup -single_module -multiply_defined suppress -L/usr/local/lib -o maanova.so makeratio.o masvd.o shift.o util.o -L/Library/Frameworks/R.framework/Versions/2.14/Resources/lib/x86_64 -lRlapack -L/Library/Frameworks/R.framework/Versions/2.14/Resources/lib/x86_64 -lRblas -lgfortran -F/Library/Frameworks/R.framework/.. -framework R -Wl,-framework -Wl,CoreFoundation
installing to /Users/biocbuild/bbs-2.9-bioc/meat/maanova.buildbin-libdir/maanova/libs/x86_64
** R
** data
** demo
** inst
** preparing package for lazy loading
** help
*** installing help indices
** building package indices ...
*** tangling vignette sources ...
   ‘maanova.Rnw’ 
** testing if installed package can be loaded
* DONE (maanova)
>>>>>>> 
>>>>>>> FIXING LINKS FOR maanova.buildbin-libdir/maanova/libs/i386/maanova.so
>>>>>>> 
install_name_tool -change "/usr/local/lib/libgcc_s.1.dylib" "/Library/Frameworks/R.framework/Versions/2.14/Resources/lib/libgcc_s.1.dylib" "maanova.buildbin-libdir/maanova/libs/i386/maanova.so"
install_name_tool -change "/usr/local/lib/libgfortran.2.dylib" "/Library/Frameworks/R.framework/Versions/2.14/Resources/lib/libgfortran.2.dylib" "maanova.buildbin-libdir/maanova/libs/i386/maanova.so"
install_name_tool -change "/usr/local/lib/libreadline.5.2.dylib" "/Library/Frameworks/R.framework/Versions/2.14/Resources/lib/libreadline.5.2.dylib" "maanova.buildbin-libdir/maanova/libs/i386/maanova.so"
install_name_tool -change "/usr/local/lib/libreadline.dylib" "/Library/Frameworks/R.framework/Versions/2.14/Resources/lib/libreadline.dylib" "maanova.buildbin-libdir/maanova/libs/i386/maanova.so"
>>>>>>> 
>>>>>>> FIXING LINKS FOR maanova.buildbin-libdir/maanova/libs/ppc/maanova.so
>>>>>>> 
install_name_tool -change "/usr/local/lib/libgcc_s.1.dylib" "/Library/Frameworks/R.framework/Versions/2.14/Resources/lib/libgcc_s.1.dylib" "maanova.buildbin-libdir/maanova/libs/ppc/maanova.so"
install_name_tool -change "/usr/local/lib/libgfortran.2.dylib" "/Library/Frameworks/R.framework/Versions/2.14/Resources/lib/libgfortran.2.dylib" "maanova.buildbin-libdir/maanova/libs/ppc/maanova.so"
install_name_tool -change "/usr/local/lib/libreadline.5.2.dylib" "/Library/Frameworks/R.framework/Versions/2.14/Resources/lib/libreadline.5.2.dylib" "maanova.buildbin-libdir/maanova/libs/ppc/maanova.so"
install_name_tool -change "/usr/local/lib/libreadline.dylib" "/Library/Frameworks/R.framework/Versions/2.14/Resources/lib/libreadline.dylib" "maanova.buildbin-libdir/maanova/libs/ppc/maanova.so"
>>>>>>> 
>>>>>>> FIXING LINKS FOR maanova.buildbin-libdir/maanova/libs/x86_64/maanova.so
>>>>>>> 
install_name_tool -change "/usr/local/lib/libgcc_s.1.dylib" "/Library/Frameworks/R.framework/Versions/2.14/Resources/lib/libgcc_s.1.dylib" "maanova.buildbin-libdir/maanova/libs/x86_64/maanova.so"
install_name_tool -change "/usr/local/lib/libgfortran.2.dylib" "/Library/Frameworks/R.framework/Versions/2.14/Resources/lib/libgfortran.2.dylib" "maanova.buildbin-libdir/maanova/libs/x86_64/maanova.so"
install_name_tool -change "/usr/local/lib/libreadline.5.2.dylib" "/Library/Frameworks/R.framework/Versions/2.14/Resources/lib/libreadline.5.2.dylib" "maanova.buildbin-libdir/maanova/libs/x86_64/maanova.so"
install_name_tool -change "/usr/local/lib/libreadline.dylib" "/Library/Frameworks/R.framework/Versions/2.14/Resources/lib/libreadline.dylib" "maanova.buildbin-libdir/maanova/libs/x86_64/maanova.so"