limma 3.9.2 Gordon Smyth
| Snapshot Date: 2011-05-09 07:20:56 -0700 (Mon, 09 May 2011) | | URL: https://hedgehog.fhcrc.org/bioconductor/trunk/madman/Rpacks/limma | | Last Changed Rev: 55291 / Revision: 55359 | | Last Changed Date: 2011-05-05 20:32:59 -0700 (Thu, 05 May 2011) |
| wilson2 | Linux (openSUSE 11.4) / x86_64 | [ OK ] | WARNINGS | |
| liverpool | Windows Server 2003 R2 (32-bit) / x64 | OK | WARNINGS | OK |
| gewurz | Windows Server 2008 R2 Enterprise (64-bit) / x64 | OK | WARNINGS | OK |
| pelham | Mac OS X Leopard (10.5.8) / i386 | OK | WARNINGS | OK |
* checking for file ‘limma/DESCRIPTION’ ... OK
* preparing ‘limma’:
* checking DESCRIPTION meta-information ... OK
* cleaning src
* installing the package to re-build vignettes
* creating vignettes ... OK
* cleaning src
* checking for LF line-endings in source and make files
* checking for empty or unneeded directories
* building ‘limma_3.9.2.tar.gz’