genArise 1.29.0 IFC Development Team
 | Snapshot Date: 2011-05-09 07:20:56 -0700 (Mon, 09 May 2011) |  | URL: https://hedgehog.fhcrc.org/bioconductor/trunk/madman/Rpacks/genArise |  | Last Changed Rev: 54802 / Revision: 55359 |  | Last Changed Date: 2011-04-13 15:36:43 -0700 (Wed, 13 Apr 2011) |  
  | wilson2  | Linux (openSUSE 11.4) / x86_64  |  OK  |  OK  |  | 
| liverpool  | Windows Server 2003 R2 (32-bit) / x64  |  OK  |  OK  |  OK  | 
| gewurz  | Windows Server 2008 R2 Enterprise (64-bit) / x64  |  OK  |  OK  |  OK  | 
| pelham  | Mac OS X Leopard (10.5.8) / i386  |  OK  |  OK  | [ OK ] | 
>>>>>>> 
>>>>>>> INSTALLATION WITH 'R CMD INSTALL --preclean --library=genArise.buildbin-libdir genArise_1.29.0.tar.gz'
>>>>>>> 
* installing *source* package ‘genArise’ ...
** R
** data
** inst
** preparing package for lazy loading
Loading required package: akima
Loading required package: lattice
locfit 1.5-6 	 2010-01-20 
Loading required package: tcltk
Loading Tcl/Tk interface ... done
Loading required package: xtable
** help
*** installing help indices
** building package indices ...
*** tangling vignette sources ...
   ‘genArise.Rnw’ 
** testing if installed package can be loaded
locfit 1.5-6 	 2010-01-20 
* DONE (genArise)