| biomaRt 2.9.1 Steffen Durinck
 
 | Snapshot Date: 2011-05-09 07:20:56 -0700 (Mon, 09 May 2011) |  | URL: https://hedgehog.fhcrc.org/bioconductor/trunk/madman/Rpacks/biomaRt |  | Last Changed Rev: 55129 / Revision: 55359 |  | Last Changed Date: 2011-04-28 09:51:14 -0700 (Thu, 28 Apr 2011) | 
 | wilson2 | Linux (openSUSE 11.4) / x86_64 | OK | OK |  | 
| liverpool | Windows Server 2003 R2 (32-bit) / x64 | OK | OK | [ OK ] | 
| gewurz | Windows Server 2008 R2 Enterprise (64-bit) / x64 | OK | OK | OK | 
| pelham | Mac OS X Leopard (10.5.8) / i386 | OK | OK | OK | 
* installing *source* package 'biomaRt' ...
** R
** inst
** preparing package for lazy loading
** help
*** installing help indices
** building package indices ...
*** tangling vignette sources ...
   'biomaRt.Rnw' 
** testing if installed package can be loaded
* MD5 sums
packaged installation of 'biomaRt' as biomaRt_2.9.1.zip
* DONE (biomaRt)